BEGIN:VCALENDAR
VERSION:2.0
PRODID:-//Libreria Erasmus Pisa - ECPv6.15.17.1//NONSGML v1.0//EN
CALSCALE:GREGORIAN
METHOD:PUBLISH
X-ORIGINAL-URL:https://pisa.libreriaerasmus.it
X-WR-CALDESC:Eventi per Libreria Erasmus Pisa
REFRESH-INTERVAL;VALUE=DURATION:PT1H
X-Robots-Tag:noindex
X-PUBLISHED-TTL:PT1H
BEGIN:VTIMEZONE
TZID:UTC
BEGIN:STANDARD
TZOFFSETFROM:+0000
TZOFFSETTO:+0000
TZNAME:UTC
DTSTART:20210101T000000
END:STANDARD
END:VTIMEZONE
BEGIN:VEVENT
DTSTART;TZID=UTC:20220707T211500
DTEND;TZID=UTC:20220707T230000
DTSTAMP:20260425T035625
CREATED:20220627T131245Z
LAST-MODIFIED:20220707T112419Z
UID:15144-1657228500-1657234800@pisa.libreriaerasmus.it
SUMMARY:Donne che scrivono di donne - Un fiume di libri in piazza Cavallotti
DESCRIPTION:GIOVEDI’ 7 LUGLIO\, ORE 21.15\n\n\n\nPRESENTAZIONE – DREAMBOOK EDIZIONI \n\n\n\nLa magia nelle parole di Emilia Bigiani (maggio 2022)  \n\n\n\nLa casa di pietra di Donella Bacci \n\n\n\nIntervengono  Emilia Bigiani\, autrice \n\n\n\nDonella Bacci\, autrice  \n\n\n\nStefano Mecenate\, editore \n\n\n\nLa magia nelle parole. Da sempre il “fantastico” è un universo parallelo al reale che funge da luogo dove il reale si specchia per ricoprire e riscoprirsi. Ben lo sa la nostra autrice che ad esso rivolge le sue attenzioni per “raccontare” ciò che la memoria ha perso in una progressiva e inarrestabile deriva. Deriva che l’ha portata lontano dalle sue radici per condurla in un alienante eterno presente dove tutto vive e si esaurisce nell’attimo che si sta vivendo. \n\n\n\nLa casa di pietra. Spesso nella vita è necessario procedere a ritroso nei ricordi per dare un nuovo significato al proprio esistere e questo cammino sui sentieri più antichi dell’anima è difficile: sono sentieri sdrucciolevoli\, è facile scivolare e farsi male o lasciarsi prendere dallo sconforto e sentirsi tentati di abbandonare l’impresa. Ma alla fine\, quando si raggiunge la meta\, tutto si ammanta di una luce diversa e assume diverse significazioni.Così fa l’autrice in questo percorso: riscopre la sua identità più profonda ri-trovando le sue radici ancorate alle pietre di una casa persa nei boschi\, a un prato e a una donna essenziale delle montagne dalla quale hanno avuto origine le donne legate alla sua vita. Poco alla volta conosceremo Maria Ventura\, una donna forte\, indipendente e saggia che ha trasmesso\, per linea di sangue femminile\, una forte consapevolezza del sé a tutte le donne di quella stirpe e una generosità indispensabile alla sopravvivenza di quanti vissero tempi difficili in luoghi altrettanto difficili. \n\n\n\n\nLa magia nelle parole\n\n\n\n\n\n\n\n\n\n\n\n\n\n\n\n\n\n\nlocandina-corretta-7-luglio-22Do                                                                                                                                                                                           wnload\n\n\n\npieghevole-7-luglio-7-agosto-rassegna-di-editoria-indipendente-3Download
URL:https://pisa.libreriaerasmus.it/appuntamento/donne-che-scrivono-di-donne/
LOCATION:Libreria Erasmus\, Piazza Cavallotti Pisa\, Piazza Cavallotti 9\, Pisa\, 56126\, Italia
CATEGORIES:Presentazioni,UN FIUME DI LIBRI IN PIAZZA CAVALLOTTI 2022
ATTACH;FMTTYPE=image/jpeg:https://pisa.libreriaerasmus.it/wp-content/uploads/2022/06/locandina7.7.22.jpg
END:VEVENT
END:VCALENDAR