BEGIN:VCALENDAR
VERSION:2.0
PRODID:-//Libreria Erasmus Pisa - ECPv6.15.17.1//NONSGML v1.0//EN
CALSCALE:GREGORIAN
METHOD:PUBLISH
X-ORIGINAL-URL:https://pisa.libreriaerasmus.it
X-WR-CALDESC:Eventi per Libreria Erasmus Pisa
REFRESH-INTERVAL;VALUE=DURATION:PT1H
X-Robots-Tag:noindex
X-PUBLISHED-TTL:PT1H
BEGIN:VTIMEZONE
TZID:UTC
BEGIN:STANDARD
TZOFFSETFROM:+0000
TZOFFSETTO:+0000
TZNAME:UTC
DTSTART:20210101T000000
END:STANDARD
END:VTIMEZONE
BEGIN:VEVENT
DTSTART;TZID=UTC:20220713T211500
DTEND;TZID=UTC:20220713T231500
DTSTAMP:20260425T000705
CREATED:20220629T185732Z
LAST-MODIFIED:20220712T152512Z
UID:15264-1657746900-1657754100@pisa.libreriaerasmus.it
SUMMARY:Livornesi in gabbia - Un fiume di libri in piazza Cavallotti
DESCRIPTION:MERCOLEDI’ 13 LUGLIO ORE 21.15 PRESENTAZIONE – ASTARTE EDIZIONI  \n\n\n\n \n\n\n\nLuca Falorni\, Gabbia di matti.  Storia semiseria del gabbione livornese (giugno 2022) \n\n\n\nIntervengono   \n\n\n\nLuca Falorni\, autore  \n\n\n\nStefano Oliviero\, docente Università di Firenze \n\n\n\nFabrizio Amore Bianco\, docente Università di Pisa \n\n\n\nSaverio Bargagna\, giornalista de La Nazione \n\n\n\n\n\nGabbia di matti.  Storia semiseria del gabbione livornese. A partire dalle interviste ai “Padri del gabbione” realizzate per il documentario omonimo del 2014\, Luca Falorni racconta la storia semiseria della nascita del gabbione\, pratica sportiva che dagli anni Cinquanta a oggi è protagonista indiscussa delle estati labroniche e non solo. La storia vede come attori personaggi ormai mitici come Armando Picchi\, considerato uno degli inventori di questo gioco. Accompagnano il testo molte fotografie d’epoca e i contributi di Stefano Oliviero e Fabrizio Amore Bianco che contestualizzano le vicende narrate nel quadro della ricostruzione della città di Livorno nel secondo dopoguerra. \n\n\n\n\n\n\n\n\n\n\n\n\n\n\n\n\n\nlocandina-corretta-7-luglio-22-4Download\n\n\n\npieghevole-7-luglio-7-agosto-rassegna-di-editoria-indipendente-3-4Download
URL:https://pisa.libreriaerasmus.it/appuntamento/livornesi-in-gabbia-un-fiume-di-libri-in-piazza-cavllotti/
LOCATION:Libreria Erasmus\, Piazza Cavallotti Pisa\, Piazza Cavallotti 9\, Pisa\, 56126\, Italia
CATEGORIES:Presentazioni,UN FIUME DI LIBRI IN PIAZZA CAVALLOTTI 2022
ATTACH;FMTTYPE=image/jpeg:https://pisa.libreriaerasmus.it/wp-content/uploads/2022/06/locandina-Gabbia-di-matti-13.7.22.jpg
ORGANIZER;CN="Libreria Erasmus":MAILTO:info@libreriaerasmus.it
END:VEVENT
END:VCALENDAR