BEGIN:VCALENDAR
VERSION:2.0
PRODID:-//Libreria Erasmus Pisa - ECPv6.15.17.1//NONSGML v1.0//EN
CALSCALE:GREGORIAN
METHOD:PUBLISH
X-WR-CALNAME:Libreria Erasmus Pisa
X-ORIGINAL-URL:https://pisa.libreriaerasmus.it
X-WR-CALDESC:Eventi per Libreria Erasmus Pisa
REFRESH-INTERVAL;VALUE=DURATION:PT1H
X-Robots-Tag:noindex
X-PUBLISHED-TTL:PT1H
BEGIN:VTIMEZONE
TZID:UTC
BEGIN:STANDARD
TZOFFSETFROM:+0000
TZOFFSETTO:+0000
TZNAME:UTC
DTSTART:20210101T000000
END:STANDARD
END:VTIMEZONE
BEGIN:VEVENT
DTSTART;TZID=UTC:20220726T211500
DTEND;TZID=UTC:20220726T230000
DTSTAMP:20260425T012655
CREATED:20220630T153953Z
LAST-MODIFIED:20220725T175534Z
UID:15302-1658870100-1658876400@pisa.libreriaerasmus.it
SUMMARY:Nata all’ombra della torre - Un fiume di libri in piazza Cavallotti
DESCRIPTION:MARTEDI’ 26 LUGLIO PRESENTAZIONE – FELICI EDITORE \n\n\n\nCristina Lastri\, Cuore pendente\, racconti e poesie all’ombra della torre (luglio 2022) \n\n\n\nIntervengono \n\n\n\n Cristina Lastri\, autrice \n\n\n\nAlessandro Scarpellini\, scrittore \n\n\n\nGiovanna Baldini\, insegnante \n\n\n\nFabrizio Felici\, editore \n\n\n\nLetture a cura del circolo pisano LaAV (Letture ad Alta Voce) \n\n\n\n\n\nCuore pendente è un prosimetro che racchiude pezzi di vita in una sequenza che segue una sorta di mappa affettiva dei ricordi dell’autrice\, nei quali Pisa è il comune denominatore. Parole pensate in un arco di tempo piuttosto ampio\, dilatato dalla potenza della memoria evocativa che spesso fa rivivere momenti emblematici del proprio vissuto\, vicende della infanzia e dell’adolescenza.Assieme a poesie dedicate al fiume Arno e ai lungarni\, una serie di racconti rende omaggio a suggestivi scorci cittadini – le casetorri\, le luci della città\, una gita in battello. \n\n\n\n\n\n\n\n\n\n\n\n\n\n\n\n\n\nlocandina-corretta-7-luglio-22-12Download\n\n\n\npieghevole-7-luglio-7-agosto-rassegna-di-editoria-indipendente-3-12Download
URL:https://pisa.libreriaerasmus.it/appuntamento/nata-allombra-della-torre-un-fiume-di-libri-in-piazza-cavallotti/
LOCATION:Libreria Erasmus\, Piazza Cavallotti Pisa\, Piazza Cavallotti 9\, Pisa\, 56126\, Italia
CATEGORIES:Presentazioni,UN FIUME DI LIBRI IN PIAZZA CAVALLOTTI 2022
ATTACH;FMTTYPE=image/jpeg:https://pisa.libreriaerasmus.it/wp-content/uploads/2022/06/locandina-presentazione-libro-Cuore-pendente-per-sito-1.jpg
ORGANIZER;CN="Libreria Erasmus":MAILTO:info@libreriaerasmus.it
END:VEVENT
END:VCALENDAR