BEGIN:VCALENDAR
VERSION:2.0
PRODID:-//Libreria Erasmus Pisa - ECPv6.15.17.1//NONSGML v1.0//EN
CALSCALE:GREGORIAN
METHOD:PUBLISH
X-WR-CALNAME:Libreria Erasmus Pisa
X-ORIGINAL-URL:https://pisa.libreriaerasmus.it
X-WR-CALDESC:Eventi per Libreria Erasmus Pisa
REFRESH-INTERVAL;VALUE=DURATION:PT1H
X-Robots-Tag:noindex
X-PUBLISHED-TTL:PT1H
BEGIN:VTIMEZONE
TZID:UTC
BEGIN:STANDARD
TZOFFSETFROM:+0000
TZOFFSETTO:+0000
TZNAME:UTC
DTSTART:20210101T000000
END:STANDARD
END:VTIMEZONE
BEGIN:VEVENT
DTSTART;TZID=UTC:20220731T091500
DTEND;TZID=UTC:20220731T231500
DTSTAMP:20260425T000633
CREATED:20220630T170612Z
LAST-MODIFIED:20220712T145056Z
UID:15312-1659258900-1659309300@pisa.libreriaerasmus.it
SUMMARY:La musica delle parole e le parole della musica - Un fiume di libri in piazza Cavallotti
DESCRIPTION:DOMENICA 31 LUGLIO ORE 21\,15 PRESENTAZIONE – PACINI EDITORE \n\n\n\nFabrizio Bartelloni e Marco Masoni\, Lettere da sopra la pioggia. Intrecci tra musica e letteratura nella canzone italiana (giugno 2022) \n\n\n\nIntervengono \n\n\n\nFabrizio Bartelloni\, autore \n\n\n\nLaura Antonelli\, avvocato presidente della Camera penale di Pisa \n\n\n\ne interventi musicali di \n\n\n\nMaurizio Bigongiali \n\n\n\n \n\n\n\n\n\nLettere da sopra la pioggia. Intrecci tra musica e letteratura nella canzone italiana. In questo libro\, non un saggio sulla dialettica tra musica e letteratura\, ma piuttosto il frutto di un accurato lavoro di ricerca\, studio e composizione\, i due autori offrono ai lettori un piccolo vademecum per orientarsi nel labirinto di incroci tra le due arti\, focalizzando l’attenzione sui momenti d’incontro più significativi all’interno del vasto panorama del pop italiano. Da Fabrizio De André a Caparezza\, da Franco Battiato al Perigeo\, passando per Dalla\, Conte\, De Gregori\, Guccini e molti altri\, scopriremo così\, pagina dopo pagina\, il dialogo\, a volte esplicito ed esibito altre ellittico e segreto\, che unisce capolavori della storia della letteratura a opere note e meno note dei tanti artisti che hanno avuto l’intelligenza e l’umiltà di usare l’ispirazione altrui per nutrire la propria. \n\n\n\n\n\n\n\n\n\n\n\n\n\n\n\n\n\nlocandina-corretta-7-luglio-22-14Download\n\n\n\npieghevole-7-luglio-7-agosto-rassegna-di-editoria-indipendente-3-14Download
URL:https://pisa.libreriaerasmus.it/appuntamento/la-musica-delle-parole-e-le-parole-della-musica-un-fiume-di-libri-in-piazza-cavallotti/
LOCATION:Libreria Erasmus\, Piazza Cavallotti Pisa\, Piazza Cavallotti 9\, Pisa\, 56126\, Italia
CATEGORIES:Presentazioni,UN FIUME DI LIBRI IN PIAZZA CAVALLOTTI 2022
ATTACH;FMTTYPE=image/png:https://pisa.libreriaerasmus.it/wp-content/uploads/2022/06/Locandina-lettere-da-sopra-la-pioggia-21.7.22.png
ORGANIZER;CN="Libreria Erasmus":MAILTO:info@libreriaerasmus.it
END:VEVENT
END:VCALENDAR