BEGIN:VCALENDAR
VERSION:2.0
PRODID:-//Libreria Erasmus Pisa - ECPv6.15.17.1//NONSGML v1.0//EN
CALSCALE:GREGORIAN
METHOD:PUBLISH
X-WR-CALNAME:Libreria Erasmus Pisa
X-ORIGINAL-URL:https://pisa.libreriaerasmus.it
X-WR-CALDESC:Eventi per Libreria Erasmus Pisa
REFRESH-INTERVAL;VALUE=DURATION:PT1H
X-Robots-Tag:noindex
X-PUBLISHED-TTL:PT1H
BEGIN:VTIMEZONE
TZID:UTC
BEGIN:STANDARD
TZOFFSETFROM:+0000
TZOFFSETTO:+0000
TZNAME:UTC
DTSTART:20210101T000000
END:STANDARD
END:VTIMEZONE
BEGIN:VEVENT
DTSTART;TZID=UTC:20220807T211500
DTEND;TZID=UTC:20220807T231500
DTSTAMP:20260425T011459
CREATED:20220630T183101Z
LAST-MODIFIED:20220805T165837Z
UID:15320-1659906900-1659914100@pisa.libreriaerasmus.it
SUMMARY:Da piece teatrale a saggio storico - Un fiume di libri in piazza Cavallotti
DESCRIPTION:DOMENICA 7 AGOSTO ORE 21.15 PRESENTAZIONE – EDIZIONI IL CAMPANO \n\n\n\nSergio Costanzo – Da Zero a Mille o Della memoria dannata di Pisa (maggio 2022) \n\n\n\nDialogo tra lo scrittore Sergio Costanzo (voce narrante) e \n\n\n\n l’attore Paolo Giommarelli (fine dicitore) \n\n\n\nIntervento di Paolo Pesciatini\, assessore alle attività produttive e al commercio \n\n\n\nDa zero a mille. L’8 agosto del 1284\, all’indomani della sconfitta pisana alla Meloria\, viene redatto e approvato in Firenze un documento programmatico: “Della rovina di Pisa”. Il 9 ottobre del 1406 i mercenari al soldo di Firenze entrano in Pisa. Stupri\, violenze\, incendi; alla sistematica distruzione della città fece seguito quella dei documenti e delle testimonianze. Pisa subì una diaspora ante litteram e una progressiva e inesorabile damnatio memoriae. La sua storia antica cadde nell’oblio. Tre millenni furono cancellati e\, ancora oggi\, la città è orfana del proprio passato.Da Zero a Mille è il frutto di una paziente ricerca\, quella dei testi di chi scrisse di Pisa\, a partire dagli eruditi greci e latini del V secolo a.C. Aneddoti\, battaglie\, contratti commerciali\, commesse reali o imperiali\, cronache.Di Pisa parlarono Licofrone\, Catone\, Dionigi di Alicarnasso\, Plinio\, Ovidio\, Virgilio\, Cassiodoro e\, risalendo la linea del tempo\, Strabone\, Claudiano\, Namaziano\, san Basilio e san Gregorio Magno. A questo coro si uniscono le voci dei cronisti di epoca gota\, longobarda\, franca\, sassone e anche quelle dei geografi e degli storici arabi\, nel grande processo di scontro e incontro tra le culture di Oriente e Occidente. Alla Prima Crociata e all’Impresa balearica è dedicata la parte finale del volume\, dove si analizzano le relative fonti. La conoscenza del passato è l’unico strumento idoneo per orientarsi e organizzare il futuro e Da Zero a Mille vuole offrire questa opportunità. \n\n\n\n \n\n\n\nSergio Costanzo (1963) vive a Pisa\, dove lavora nell’Azienda Ospedaliero Universitaria. Volontario di Protezione Civile Internazionale\, ha compiuto varie missioni in Italia e all’estero\, ottenendo nel 2006 la Benemerenza della Repubblica Italiana conferitagli dal Presidente Carlo Azeglio Ciampi. Molte le esperienze sportive. Dal 2004 pubblica saggi sull’architettura\, sul Medioevo\, racconti\, reportage\, romanzi storici e lavori teatrali.Consulente e voce narrante per varie trasmissioni televisive\, ha pubblicato con Edizioni Il Campano Leggende Pisane. Storia e storie della città (voll. I e II) \n\n\n\n\n\n\n\n\n\n\n\n\n\n\n\n\n\n\n\nlocandina-corretta-7-luglio-22-16Download\n\n\n\npieghevole-7-luglio-7-agosto-rassegna-di-editoria-indipendente-3-16Download
URL:https://pisa.libreriaerasmus.it/appuntamento/da-piece-teatrale-a-saggio-storico-un-fiume-di-libri-in-piazza-cavallotti/
LOCATION:Libreria Erasmus\, Piazza Cavallotti Pisa\, Piazza Cavallotti 9\, Pisa\, 56126\, Italia
CATEGORIES:Presentazioni,UN FIUME DI LIBRI IN PIAZZA CAVALLOTTI 2022
ATTACH;FMTTYPE=image/jpeg:https://pisa.libreriaerasmus.it/wp-content/uploads/2022/06/locandina-7.8.22-scaled.jpg
ORGANIZER;CN="Libreria Erasmus":MAILTO:info@libreriaerasmus.it
END:VEVENT
END:VCALENDAR