BEGIN:VCALENDAR
VERSION:2.0
PRODID:-//Libreria Erasmus Pisa - ECPv6.15.17.1//NONSGML v1.0//EN
CALSCALE:GREGORIAN
METHOD:PUBLISH
X-ORIGINAL-URL:https://pisa.libreriaerasmus.it
X-WR-CALDESC:Eventi per Libreria Erasmus Pisa
REFRESH-INTERVAL;VALUE=DURATION:PT1H
X-Robots-Tag:noindex
X-PUBLISHED-TTL:PT1H
BEGIN:VTIMEZONE
TZID:UTC
BEGIN:STANDARD
TZOFFSETFROM:+0000
TZOFFSETTO:+0000
TZNAME:UTC
DTSTART:20220101T000000
END:STANDARD
END:VTIMEZONE
BEGIN:VEVENT
DTSTART;TZID=UTC:20230121T173000
DTEND;TZID=UTC:20230121T190000
DTSTAMP:20260424T114720
CREATED:20230119T194044Z
LAST-MODIFIED:20230119T194044Z
UID:15600-1674322200-1674327600@pisa.libreriaerasmus.it
SUMMARY:Presentazione del romanzo "Di prima e di poi" di Guido Del Monte
DESCRIPTION:Dialogo tra lo scrittore Pierantonio Pardi e l’autore del nuovo romanzo “Di prima e di poi” (edizioni Robin)\, Guido Del Monte.La presentazione del libro avrà luogo sabato 21 gennaio alle ore 17.30 presso la libreria Erasmus (piazza Cavallotti 9) \n\n\n\nSinossi. Due storie si specchiano sul confine dell’inizio del lockdown (marzo 2020). Una è il prima\, l’altra è il poi. Personaggi che si incoraggiano tra loro nei rispettivi tentativi di riemergere da una dimensione di vuoto e privazione. Vito Bruma\, l’eroe del prima\, fa il rappresentante di libri e sta affrontando l’abbandono da parte della moglie e la perdita del lavoro. In treno conosce Marisa\, che viceversa ha abbandonato il marito\, ma che diverrà la musa ispiratrice della risalita di Vito. Corrado e Anna sono invece gli attori del poi\, due persone comuni che\, sfidando le norme pandemiche\, intraprendono una relazione segreta dalle imprevedibili conseguenze. Questi personaggi non sono resilienti\, bensì reagiscono attivamente e per quel che possono\, facendosi portavoce di quella forza umana che non si lascia annichilire.Autore. Guido Del Monte nasce a Viareggio nel 1969 ed esordisce come scrittore nel 2000 con il romanzo Costa West (Baroni editore). Nel 2016 inaugura il progetto editoriale Maison Nouvelle Vague www.nouvellevaguelibri.comTra le altre pubblicazioni si ricordano Le protagoniste (2016)\, Il souvenir (2017)\, Al livello del mare (2018). Nel 2019 pubblica Ets L’abat-jour\, finalista al concorso “Un libro per il Cinema” e nel 2021 il romanzo Ottobre fest (Robin edizioni)
URL:https://pisa.libreriaerasmus.it/appuntamento/presentazione-del-romanzo-di-prima-e-di-poi-di-guido-del-monte/
LOCATION:Libreria Erasmus\, Piazza Cavallotti Pisa\, Piazza Cavallotti 9\, Pisa\, 56126\, Italia
CATEGORIES:Presentazioni
ATTACH;FMTTYPE=image/png:https://pisa.libreriaerasmus.it/wp-content/uploads/2023/01/copertina-facebook-libro-Del-Monte.png
ORGANIZER;CN="Libreria Erasmus":MAILTO:info@libreriaerasmus.it
END:VEVENT
END:VCALENDAR