BEGIN:VCALENDAR
VERSION:2.0
PRODID:-//Libreria Erasmus Pisa - ECPv6.15.17.1//NONSGML v1.0//EN
CALSCALE:GREGORIAN
METHOD:PUBLISH
X-WR-CALNAME:Libreria Erasmus Pisa
X-ORIGINAL-URL:https://pisa.libreriaerasmus.it
X-WR-CALDESC:Eventi per Libreria Erasmus Pisa
REFRESH-INTERVAL;VALUE=DURATION:PT1H
X-Robots-Tag:noindex
X-PUBLISHED-TTL:PT1H
BEGIN:VTIMEZONE
TZID:UTC
BEGIN:STANDARD
TZOFFSETFROM:+0000
TZOFFSETTO:+0000
TZNAME:UTC
DTSTART:20220101T000000
END:STANDARD
END:VTIMEZONE
BEGIN:VEVENT
DTSTART;TZID=UTC:20230420T170000
DTEND;TZID=UTC:20230420T190000
DTSTAMP:20260424T090727
CREATED:20230420T135656Z
LAST-MODIFIED:20230420T140343Z
UID:15630-1682010000-1682017200@pisa.libreriaerasmus.it
SUMMARY:Presentazione Libro "Di acque\, di strade\, di terre" di Arianna Andrei
DESCRIPTION:Arianna Andrei dialoga con Angelo Tonelli\, grecista e registra teatrale\, ed Erika Pisacco\, della Casa Editrice il filo di Arianna\, sul suo ultimo libro. \n\n\n\nBasato sul diario dell’Autrice\, “Di acque\, di strade\, di terre”\, è il racconto\, dal titolo evocativo\, di un viaggio che ha attraversato alcuni luoghi sacri per le spiritualità dell’India: la Moschea del venerdì a Delhi\, Sarnath\, sito della prima predicazione di Buddha\, Varanasi\, sulle rive sacre del Gange\, dove gli induisti si recano per purificarsi dal passato e per assistere alle celebrazioni del sole nascente\, i templi di Khajuraho\, adornati di sculture erotiche\, il Taj Mahal ad Agra\, ed Orchha\, sulle rive del fiume Betwa. \n\n\n\nUna testimonianza permeata da riflessioni sui contesti sociali attraversati\, la storia dell’India\, il messaggio gandhiano\, la condizione delle donne\, l’analfabetismo\, in un paese oggi in forte evoluzione\, dove convivono tradizioni radicate e modernità\, degrado ambientale e nuovi modelli di sviluppo\, di cui si è fatto portavoce il movimento ecologista indiano\, con Vandhana Shiva. \n\n\n\nL’opera segue un doppio linguaggio espressivo: la scrittura\, a tratti autobiografica e poetica\, con un’impronta giornalistica\, e la fotografia\, che rievoca alcune suggestioni dei luoghi visitati\, cogliendo immagini di vita quotidiana\, ed ispirandosi alla fotografia di strada.
URL:https://pisa.libreriaerasmus.it/appuntamento/presentazione-libro-di-acque-di-strade-di-terre-di-arianna-andrei/
LOCATION:Libreria Erasmus\, Piazza Cavallotti Pisa\, Piazza Cavallotti 9\, Pisa\, 56126\, Italia
ATTACH;FMTTYPE=image/jpeg:https://pisa.libreriaerasmus.it/wp-content/uploads/2023/04/Presentazione-Andrei-1.jpg
ORGANIZER;CN="Libreria Erasmus":MAILTO:info@libreriaerasmus.it
END:VEVENT
END:VCALENDAR