BEGIN:VCALENDAR
VERSION:2.0
PRODID:-//Libreria Erasmus Pisa - ECPv6.15.17.1//NONSGML v1.0//EN
CALSCALE:GREGORIAN
METHOD:PUBLISH
X-ORIGINAL-URL:https://pisa.libreriaerasmus.it
X-WR-CALDESC:Eventi per Libreria Erasmus Pisa
REFRESH-INTERVAL;VALUE=DURATION:PT1H
X-Robots-Tag:noindex
X-PUBLISHED-TTL:PT1H
BEGIN:VTIMEZONE
TZID:UTC
BEGIN:STANDARD
TZOFFSETFROM:+0000
TZOFFSETTO:+0000
TZNAME:UTC
DTSTART:20220101T000000
END:STANDARD
END:VTIMEZONE
BEGIN:VEVENT
DTSTART;TZID=UTC:20230823T190000
DTEND;TZID=UTC:20230823T200000
DTSTAMP:20260423T221151
CREATED:20230818T185305Z
LAST-MODIFIED:20230819T155826Z
UID:15729-1692817200-1692820800@pisa.libreriaerasmus.it
SUMMARY:Presentazione del romanzo                     "La rosa è viva" di Denise Ciampi (ChiPiùNeArt Edizioni)
DESCRIPTION:Nell’ambito dello spazio libri gestito dalla Libreria Erasmus della X edizione di “Marina Slow 2023”  \n\n\n\nL’autrice\, Denise Ciampi\, dialoga con Emanuela Geraci (counselor) \n\n\n\n“Marina Slow 2023”  \n\n\n\nhttps://circoloilfortino.wordpress.com/presto-disponibile/ \n\n\n\n \n\n\n\n\n\n \n\n\n\nSinossi.  \n\n\n\nUna ragazza dei nostri giorni\, Gaia\, militante neofascista\, si imbatte nel diario della sua bisnonna partigiana\, internata a Ravensbrück.  Le storie della bisnonna e della ragazza procedono parallelamente ed il racconto delle vicende dei nostri tempi sottolinea come le politiche che sfruttano il disagio e la fragilità sociale favoriscano la violenza intesa come xenofobia\, omofobia e\, soprattutto\, la violenza contro le donne. Il contesto odierno si intreccia con quello trascorso\, mettendo in evidenza una continuità di lotta che unisce più generazioni di donne. Il racconto del passato\, con le atrocità del campo di concentramento\, apriranno\, in Gaia\, la strada al dubbio. \n\n\n\n \n\n\n\nAutrice.  \n\n\n\nDenise Ciampi nasce a Pisa\, dove si occupa di immigrazione\, cooperazione internazionale e mediazione sociale\, coltivando l’interesse per il teatro e per la scrittura. Le prime pubblicazioni sono di tipo tecnico e legate all’ambito lavorativo. Attualmente vive a Pontedera\, dove lavora come insegnante. Ha pubblicato la silloge Cassandra minore (2013)\, la raccolta di racconti Tendenti al volo. Sei storie in cerca di grazia (Carmignani Editrice 2015)\, i romanzi L’offerta di Minerva (Carmignani Editrice 2016)\, L’amore di Greta per i pappagalli (Stampa Alternativa 2018) e La rosa è viva (ChiPiùNeArt Edizioni 2021). Suoi racconti sono stati premiati in concorsi letterari e pubblicati in antologie.
URL:https://pisa.libreriaerasmus.it/appuntamento/presentazione-del-romanzo-la-rosa-e-viva-di-denise-ciampi-chipiuneart-edizioni/
LOCATION:Marina Slow\, via della Sirenetta\, Marina di Pisa\, Italia
CATEGORIES:Presentazioni
ATTACH;FMTTYPE=image/jpeg:https://pisa.libreriaerasmus.it/wp-content/uploads/2023/08/La-rosa-e-viva.jpg
END:VEVENT
END:VCALENDAR