BEGIN:VCALENDAR
VERSION:2.0
PRODID:-//Libreria Erasmus Pisa - ECPv6.15.17.1//NONSGML v1.0//EN
CALSCALE:GREGORIAN
METHOD:PUBLISH
X-WR-CALNAME:Libreria Erasmus Pisa
X-ORIGINAL-URL:https://pisa.libreriaerasmus.it
X-WR-CALDESC:Eventi per Libreria Erasmus Pisa
REFRESH-INTERVAL;VALUE=DURATION:PT1H
X-Robots-Tag:noindex
X-PUBLISHED-TTL:PT1H
BEGIN:VTIMEZONE
TZID:UTC
BEGIN:STANDARD
TZOFFSETFROM:+0000
TZOFFSETTO:+0000
TZNAME:UTC
DTSTART:20230101T000000
END:STANDARD
END:VTIMEZONE
BEGIN:VEVENT
DTSTART;TZID=UTC:20240127T173000
DTEND;TZID=UTC:20240127T190000
DTSTAMP:20260423T104852
CREATED:20240126T200128Z
LAST-MODIFIED:20240126T202113Z
UID:15833-1706376600-1706382000@pisa.libreriaerasmus.it
SUMMARY:Nadia Chiaverini e Franco Donatini presentano il libro “La mala erba. Il caso Lavorini” di Francesco Belluomini
DESCRIPTION:Con riferimento anche alle vicende giudiziarie del tempo e al clamore mediatico suscitato all’epoca\, Nadia Chiaverini e Franco Donatini presentano alla Libreria Erasmus il libro “La mala erba. Il caso Lavorini” (Bonaccorso editore)\, un poema in versi pubblicato postumo nel 2023 su una tragedia risalente ai primi mesi del 1969. Quelli di una certa generazione ricorderanno lo scandalo che suscitò l’omicidio di un ragazzino dodicenne di Viareggio\, il cui corpo fu ritrovato nella pineta di Marina di Vecchiano.L’autore è Francesco Belluomini (1941-2017)\, poeta e scrittore di notevole impegno sociale\, già Presidente del Premio Letterario Internazionale Camaiore.Il libro è un’opera di testimonianza e di denuncia sociale su un argomento ancora di scottante attualità.
URL:https://pisa.libreriaerasmus.it/appuntamento/nadia-chiaverini-e-franco-donatini-presentano-il-libro-la-mala-erba-il-caso-lavorini-di-francesco-belluomini/
LOCATION:Libreria Erasmus\, Piazza Cavallotti Pisa\, Piazza Cavallotti 9\, Pisa\, 56126\, Italia
CATEGORIES:Presentazioni
ATTACH;FMTTYPE=image/jpeg:https://pisa.libreriaerasmus.it/wp-content/uploads/2024/01/COPERTINA-libro-la-mala-erba.jpg
ORGANIZER;CN="Libreria Erasmus":MAILTO:info@libreriaerasmus.it
END:VEVENT
END:VCALENDAR