BEGIN:VCALENDAR
VERSION:2.0
PRODID:-//Libreria Erasmus Pisa - ECPv6.15.17.1//NONSGML v1.0//EN
CALSCALE:GREGORIAN
METHOD:PUBLISH
X-WR-CALNAME:Libreria Erasmus Pisa
X-ORIGINAL-URL:https://pisa.libreriaerasmus.it
X-WR-CALDESC:Eventi per Libreria Erasmus Pisa
REFRESH-INTERVAL;VALUE=DURATION:PT1H
X-Robots-Tag:noindex
X-PUBLISHED-TTL:PT1H
BEGIN:VTIMEZONE
TZID:UTC
BEGIN:STANDARD
TZOFFSETFROM:+0000
TZOFFSETTO:+0000
TZNAME:UTC
DTSTART:20230101T000000
END:STANDARD
END:VTIMEZONE
BEGIN:VEVENT
DTSTART;TZID=UTC:20240315T173000
DTEND;TZID=UTC:20240315T190000
DTSTAMP:20260422T224329
CREATED:20240309T162530Z
LAST-MODIFIED:20240309T162531Z
UID:15847-1710523800-1710529200@pisa.libreriaerasmus.it
SUMMARY:Presentazione del libro "Fino all'ultimo battito" di Ida Sassi
DESCRIPTION:La Libreria Erasmus è lieta di invitarvi alla \n\n\n\nPRESENTAZIONE DEL LIBRO “FINO ALL’ULTIMO BATTITO” (Leone editore) di IDA SAFFI \n\n\n\nTITINA MACCIONI DIALOGA CON L’AUTRICE \n\n\n\nSinossi. Una sera di febbraio\, una giovane donna viene uccisa e gettata nel canale della Vettabbia\, a Milano. Il suo nome è Clarissa Gandini\, una professoressa con una vita spoglia e priva di legami. Il vicequestore Guido Valenti\, chiamato a risolvere il caso\, scopre che la donna celava un’ossessione: Clarissa ha vissuto gli ultimi quindici anni cercando senza sosta l’assassino della sorella maggiore\, Ilaria\, uccisa in un assolato pomeriggio di luglio insieme a un uomo più grande e a un bambino. Un delitto spietato\, senza movente e senza colpevole. Tocca a Guido sbrogliare la matassa ingarbugliata di eventi e dare voce alle vittime\, che da quindici anni chiedono di raccontare la loro storia. Il vicequestore capisce subito che se vuole sapere chi ha ucciso Clarissa Gandini deve scoprire prima chi ha assassinato la sorella\, ricostruire eventi lontani del tempo\, protetti dagli anni e dai segreti\, scegliere i suoi alleati e riconoscere chi gli è amico e chi non lo è. Per farlo\, però\, deve combattere la sua personale ossessione\, guardandosi dentro\, e fronteggiare i suoi demoni. Solo allora sarà capace di ricostruire i passi dell’assassino. \n\n\n\nL’autrice. Ida Sassi\, nata a Bari\, è laureata in Fisica all’Università di Padova e da molti anni vive e lavora a Milano. Ha due figlie\, due nipoti e un cavallo. Per diverso tempo si è occupata di letteratura francese\, traducendo diversi romanzi per Adelphi e Newton Compton. Per Leone Editore ha pubblicato La morte dimenticata (2021)\, In debito con la morte (2021) Io ti troverò (2022) e Fino all’ultimo battito (2023).
URL:https://pisa.libreriaerasmus.it/appuntamento/presentazione-del-libro-fino-allultimo-battito-di-ida-sassi/
LOCATION:Open pi\, piazza Vittorio Emanuele II\, 22\, Pisa\, Italia
CATEGORIES:Presentazioni
ATTACH;FMTTYPE=image/jpeg:https://pisa.libreriaerasmus.it/wp-content/uploads/2024/03/locandina-Sassi-Pisa.jpg
END:VEVENT
END:VCALENDAR