BEGIN:VCALENDAR
VERSION:2.0
PRODID:-//Libreria Erasmus Pisa - ECPv6.15.17.1//NONSGML v1.0//EN
CALSCALE:GREGORIAN
METHOD:PUBLISH
X-ORIGINAL-URL:https://pisa.libreriaerasmus.it
X-WR-CALDESC:Eventi per Libreria Erasmus Pisa
REFRESH-INTERVAL;VALUE=DURATION:PT1H
X-Robots-Tag:noindex
X-PUBLISHED-TTL:PT1H
BEGIN:VTIMEZONE
TZID:UTC
BEGIN:STANDARD
TZOFFSETFROM:+0000
TZOFFSETTO:+0000
TZNAME:UTC
DTSTART:20230101T000000
END:STANDARD
END:VTIMEZONE
BEGIN:VEVENT
DTSTART;TZID=UTC:20240504T180000
DTEND;TZID=UTC:20240504T193000
DTSTAMP:20260422T194327
CREATED:20240503T175250Z
LAST-MODIFIED:20240503T180135Z
UID:17786-1714845600-1714851000@pisa.libreriaerasmus.it
SUMMARY:Presentazione del libro di poesie “Foglie di fine estate” di Marianna Coluccio
DESCRIPTION:Oltre all’autrice interverranno la poetessa Nadia Chiaverini e la scrittrice Cristiana Vettori\, autrice della prefazione.  \n\n\n\nMarianna Coluccio ha vissuto in Calabria per la maggior parte della sua vita e ha lavorato come insegnante nella scuola primaria. Dal 2017 si è trasferita in Toscana dove si è dedicata maggiormente a coltivare i suoi interessi artistico-culturali legati soprattutto alla scrittura e alla lettura. \n\n\n\nNella silloge la poesia è presentata come compagna di vita\, consolazione di un’esistenza che ha conosciuto momenti di smarrimento e di dolore e trova finalmente sollievo nella parola poetica. La poetessa si rivela dunque nelle sue malinconie\, nei desideri\, nei rimpianti\, negli slanci che ancora conserva e che la fanno sentire viva. Ai toni più intimistici si alternano versi dedicati all’attaccamento alla terra in cui è nata o al momento storico attuale e alla violenza che lo caratterizza.  \n\n\n\nA leggere le poesie ci saranno le amiche del Gruppo di scrittura creativa dell’UNIDEA. Il libro sarà presentato  prossimamente al Salone Internazionale del Libro di Torino.
URL:https://pisa.libreriaerasmus.it/appuntamento/presentazione-del-libro-di-poesie-foglie-di-fine-estate-di-marianna-coluccio/
CATEGORIES:Presentazioni
ATTACH;FMTTYPE=image/jpeg:https://pisa.libreriaerasmus.it/wp-content/uploads/2024/05/locandina-libro-Coluccio.jpg
ORGANIZER;CN="Libreria Erasmus":MAILTO:info@libreriaerasmus.it
END:VEVENT
END:VCALENDAR