BEGIN:VCALENDAR
VERSION:2.0
PRODID:-//Libreria Erasmus Pisa - ECPv6.15.17.1//NONSGML v1.0//EN
CALSCALE:GREGORIAN
METHOD:PUBLISH
X-WR-CALNAME:Libreria Erasmus Pisa
X-ORIGINAL-URL:https://pisa.libreriaerasmus.it
X-WR-CALDESC:Eventi per Libreria Erasmus Pisa
REFRESH-INTERVAL;VALUE=DURATION:PT1H
X-Robots-Tag:noindex
X-PUBLISHED-TTL:PT1H
BEGIN:VTIMEZONE
TZID:UTC
BEGIN:STANDARD
TZOFFSETFROM:+0000
TZOFFSETTO:+0000
TZNAME:UTC
DTSTART:20230101T000000
END:STANDARD
END:VTIMEZONE
BEGIN:VEVENT
DTSTART;TZID=UTC:20240518T180000
DTEND;TZID=UTC:20240518T193000
DTSTAMP:20260422T224424
CREATED:20240517T184409Z
LAST-MODIFIED:20240517T191902Z
UID:18132-1716055200-1716060600@pisa.libreriaerasmus.it
SUMMARY:Presentazione del libro "Psicoanalisi libera" di Roberto Bichisecchi
DESCRIPTION:Dialogheranno  con l’autore Nadia Chiaverini\, poetessa pisana e Daniela Strazzullo\, pedagogista clinica. Possono oggi insegnarci qualcosa le emozioni\, i sentimenti? Sicuramente senza queste caratteristiche mentali la vita non avrebbe senso\, sapore\, piacere\, neanche dolore e soprattutto non troverebbe una direzione. Inoltre quale forma di libertà potremmo vivere senza la nostra spiritualità? In questo lavoro la spiritualità è intesa come il luogo nel quale la persona può orientare lo sguardo verso la propria più vera e sentita identità. \n\n\n\nRoberto Bichisecchi è nato a Livorno ed è  Psicoanalista e Psicoterapeuta. Coordina le attività della Associazione Psicoanalisti di Pisa. Autore di numerosi articoli in riviste italiane e internazionali\, ha pubblicato nelle Edizioni Borla: Sogno\, Pensiero\, Sentimento; nelle edizioni Del Cerro: Autonomia e dipendenza\, una lettura psicoanalitica tra osservazione clinica e rielaborazione culturale; La relazione terapeutica; Autismo e Psicoanalisi\, Fondamenti e orientamenti terapeutici da Eugene Bleuler a Salomon Resnik (Presentazione di Salomon Resnik); nelle Edizioni Juppiter: Linguaggi ed espressioni della mente; nelle edizioni ETS: L’identità della psicoanalisi libera.
URL:https://pisa.libreriaerasmus.it/appuntamento/presentazione-del-libro-psicoanalisi-libera-di-roberto-bichisecchi/
ATTACH;FMTTYPE=image/jpeg:https://pisa.libreriaerasmus.it/wp-content/uploads/2024/05/locandino-bichisecchi.jpg
ORGANIZER;CN="Libreria Erasmus":MAILTO:info@libreriaerasmus.it
END:VEVENT
END:VCALENDAR