BEGIN:VCALENDAR
VERSION:2.0
PRODID:-//Libreria Erasmus Pisa - ECPv6.15.17.1//NONSGML v1.0//EN
CALSCALE:GREGORIAN
METHOD:PUBLISH
X-ORIGINAL-URL:https://pisa.libreriaerasmus.it
X-WR-CALDESC:Eventi per Libreria Erasmus Pisa
REFRESH-INTERVAL;VALUE=DURATION:PT1H
X-Robots-Tag:noindex
X-PUBLISHED-TTL:PT1H
BEGIN:VTIMEZONE
TZID:UTC
BEGIN:STANDARD
TZOFFSETFROM:+0000
TZOFFSETTO:+0000
TZNAME:UTC
DTSTART:20230101T000000
END:STANDARD
END:VTIMEZONE
BEGIN:VEVENT
DTSTART;TZID=UTC:20240531T120000
DTEND;TZID=UTC:20240531T190000
DTSTAMP:20260422T170316
CREATED:20240530T144121Z
LAST-MODIFIED:20240530T152627Z
UID:18392-1717156800-1717182000@pisa.libreriaerasmus.it
SUMMARY:"Ventuno canti" di Vincenzo Mirra Firmacopie con autore ore 12 presso la libreria Erasmus e letture ore 17 presso la Biblioteca Sms Biblio di Pisa
DESCRIPTION:Venerdì 31 maggio alle ore 17.00 presso la Biblioteca Sms Biblio di Pisa \n\n\n\n lettura del poemetto “Ventuno canti” (Ensemble\, 2024)\, la nuova raccolta poetica di Vincenzo Mirra.  \n\n\n\nIn dialogo con l’autore interverrà la traduttrice e grecista Chiara Catapano. \n\n\n\nIl libro sarà acquistabile in esclusiva a partire da  \n\n\n\nVenerdì 31 maggio mattina presso la libreria Erasmus dove \n\n\n\nalle ore 12.00 sarà presente l’autore per  \n\n\n\nun firmacopie con dedica.
URL:https://pisa.libreriaerasmus.it/appuntamento/ventuno-canti-di-vincenzo-mirra-firmacopie-con-autore-ore-12-alla-libreria-erasmus-e-letture-ore-17-00-biblioteca-sms-biblio-di-pisa/
LOCATION:Libreria Erasmus\, Piazza Cavallotti Pisa\, Piazza Cavallotti 9\, Pisa\, 56126\, Italia
CATEGORIES:Presentazioni
ATTACH;FMTTYPE=image/jpeg:https://pisa.libreriaerasmus.it/wp-content/uploads/2024/05/Firmacopie-ventuno-canti-2.jpg
ORGANIZER;CN="Libreria Erasmus":MAILTO:info@libreriaerasmus.it
END:VEVENT
END:VCALENDAR