BEGIN:VCALENDAR
VERSION:2.0
PRODID:-//Libreria Erasmus Pisa - ECPv6.15.17.1//NONSGML v1.0//EN
CALSCALE:GREGORIAN
METHOD:PUBLISH
X-ORIGINAL-URL:https://pisa.libreriaerasmus.it
X-WR-CALDESC:Eventi per Libreria Erasmus Pisa
REFRESH-INTERVAL;VALUE=DURATION:PT1H
X-Robots-Tag:noindex
X-PUBLISHED-TTL:PT1H
BEGIN:VTIMEZONE
TZID:UTC
BEGIN:STANDARD
TZOFFSETFROM:+0000
TZOFFSETTO:+0000
TZNAME:UTC
DTSTART:20230101T000000
END:STANDARD
END:VTIMEZONE
BEGIN:VEVENT
DTSTART;TZID=UTC:20240704T210000
DTEND;TZID=UTC:20240704T230000
DTSTAMP:20260422T125232
CREATED:20240626T161311Z
LAST-MODIFIED:20240626T184153Z
UID:19358-1720126800-1720134000@pisa.libreriaerasmus.it
SUMMARY:Incontro con Anna Maria Gennai autrice del libro “Pisa. Passeggiate con curiosità matematiche e fisiche” (dicembre 2023\, Felici editore)
DESCRIPTION:Interverranno \n\n\n\nMarco Castaldi\, CMS emeritus\, INFN Pisa \n\n\n\nMassimiliano Razzano\, docente di fisica\, Università di Pisa \n\n\n\nFabrizio Felici\, editore \n\n\n\nSinossi. Passeggiare per Pisa con un detector in grado di rivelare tracce di matematica e fisica\, scoprendole non soltanto nei trattati scientifici di Fibonacci e Galileo\, ma celate in monumenti\, palazzi e chiese. Esplorare la città con sguardo scientifico\, recuperando le testimonianze di personaggi illustri vissuti a Pisa\, e scoprire il lato umanistico di materie considerate tecniche. Il binomio “Pisa città d’arte” e “Pisa città della scienza” trova negli itinerari proposti una nuova definizione nell’intreccio della sua storia millenaria. \n\n\n\n\nLa quarta edizione di “Un fiume di libri in Piazza Cavallotti”\n\n\n\n\nhttps://www.lanazione.it/pisa/cronaca/torna-un-fiume-di-libri-in-piazza-cavallotti-800b4b5e
URL:https://pisa.libreriaerasmus.it/appuntamento/incontro-con-anna-maria-gennai-autrice-del-libro-pisa-passeggiate-con-curiosita-matematiche-e-fisiche-dicembre-2023-felici-editore/
CATEGORIES:UN FIUME DI LIBRI IN PIAZZA CAVALLOTTI 2024
ATTACH;FMTTYPE=image/jpeg:https://pisa.libreriaerasmus.it/wp-content/uploads/2024/06/locandina-4-luglio-felici.jpg
END:VEVENT
END:VCALENDAR