BEGIN:VCALENDAR
VERSION:2.0
PRODID:-//Libreria Erasmus Pisa - ECPv6.15.17.1//NONSGML v1.0//EN
CALSCALE:GREGORIAN
METHOD:PUBLISH
X-ORIGINAL-URL:https://pisa.libreriaerasmus.it
X-WR-CALDESC:Eventi per Libreria Erasmus Pisa
REFRESH-INTERVAL;VALUE=DURATION:PT1H
X-Robots-Tag:noindex
X-PUBLISHED-TTL:PT1H
BEGIN:VTIMEZONE
TZID:UTC
BEGIN:STANDARD
TZOFFSETFROM:+0000
TZOFFSETTO:+0000
TZNAME:UTC
DTSTART:20230101T000000
END:STANDARD
END:VTIMEZONE
BEGIN:VEVENT
DTSTART;TZID=UTC:20240707T210000
DTEND;TZID=UTC:20240707T230000
DTSTAMP:20260422T124809
CREATED:20240626T170912Z
LAST-MODIFIED:20240626T183642Z
UID:19368-1720386000-1720393200@pisa.libreriaerasmus.it
SUMMARY:Incontro con Piero Pierotti autore del libro “I veri miracoli della piazza dei Miracoli” (marzo 2024\, Pacini editore)
DESCRIPTION:InterverrannoDenise Ulivieri\, docente di Storia dell’Architettura\, Università di PisaFrancesca Pacini\, editrice \n\n\n\nSinossi. Piazza dei Miracoli\, uno dei luoghi più famosi al mondo: una Mecca dell’arte\, da visitare almeno una volta nella vita. Eppure… è mal conosciuta. Le visite rituali\, sbrigative e convenzionali; i medesimi stereotipi ripetuti da decenni. È così\, paradossalmente\, che i veri miracoli della Piazza – contenuti realmente degni di osservazione e meraviglia – rimangono incompresi\, nascosti e decontestualizzati. “I veri miracoli della Piazza dei Miracoli” inverte questa rotta: avendo come riferimento soprattutto i metodi storiografici di Marc Bloch\, Lucien Febvre\, Georges Duby\, Fernand Braudel e della scuola francese delle Annales\, il volume vuole leggere tutte le possibili storie che – in parallelo e miracolosamente – si legano alla Piazza\, preferendo per lo più la storia sincronica a quella diacronica. Piero Pierotti connette situazioni lontane millenni fra loro\, ma contigue nello spazio. Incontra personaggi apparentemente minimi e mostra in che rapporto fossero con il grandioso fenomeno della “creazione delle Cattedrali” in Europa. \n\n\n\n \n\n\n\nhttps://www.lanazione.it/pisa/cronaca/torna-un-fiume-di-libri-in-piazza-cavallotti-800b4b5e \n\n\n\n\nLa quarta edizione di “Un fiume di libri in Piazza Cavallotti”
URL:https://pisa.libreriaerasmus.it/appuntamento/incontro-con-piero-pierotti-autore-del-libro-i-veri-miracoli-della-piazza-dei-miracoli-marzo-2024-pacini-editore/
CATEGORIES:UN FIUME DI LIBRI IN PIAZZA CAVALLOTTI 2024
ATTACH;FMTTYPE=image/png:https://pisa.libreriaerasmus.it/wp-content/uploads/2024/06/LOCANDINA-7-LUGLIO-PACINI.png
END:VEVENT
END:VCALENDAR