BEGIN:VCALENDAR
VERSION:2.0
PRODID:-//Libreria Erasmus Pisa - ECPv6.15.17.1//NONSGML v1.0//EN
CALSCALE:GREGORIAN
METHOD:PUBLISH
X-ORIGINAL-URL:https://pisa.libreriaerasmus.it
X-WR-CALDESC:Eventi per Libreria Erasmus Pisa
REFRESH-INTERVAL;VALUE=DURATION:PT1H
X-Robots-Tag:noindex
X-PUBLISHED-TTL:PT1H
BEGIN:VTIMEZONE
TZID:UTC
BEGIN:STANDARD
TZOFFSETFROM:+0000
TZOFFSETTO:+0000
TZNAME:UTC
DTSTART:20230101T000000
END:STANDARD
END:VTIMEZONE
BEGIN:VEVENT
DTSTART;TZID=UTC:20240711T210000
DTEND;TZID=UTC:20240711T230000
DTSTAMP:20260422T124943
CREATED:20240626T191740Z
LAST-MODIFIED:20240628T172911Z
UID:19386-1720731600-1720738800@pisa.libreriaerasmus.it
SUMMARY:Incontro con Daniela Bernardini e Luigi Puccini autori del libro“I Cinema dei preti. Storia delle sale parrocchiali nella diocesi di Pisa” (aprile 2024\, Edizioni Ets)
DESCRIPTION:InterverrannoSimonetta Della Croce\, cineclub ArsenaleGabriele Masiero\, giornalista de La Nazione \n\n\n\nSinossi. Negli anni Sessanta quasi una sala cinematografica su due era cattolica\, come si legge sulla stampa pisana di quegli anni. «Uno schermo per ogni campanile»\, si diceva. Il cinema accompagnava l’alfabetizzazione di un’Italia che si avviava verso il boom economico e che\, al pari della letteratura\, rappresentava uno strumento fondamentale per l’educazione del popolo. In questa temperie culturale «furono impiantate in gran numero delle sale cinematografiche\, allo scopo speciale di offrire un divertimento onesto e di salvaguardare la nostra gioventù e le famiglie cristiane dai pericoli del cinematografo immorale e corruttore»\, scrive la Rivista del Cinematografo sul suo primo numero. Le sale parrocchiali nella diocesi di Pisa erano spazi presenti in tutta l’area\, dalla città alla Versilia\, dalla Garfagnana all’area etrusca. Il volume ne traccia la storia attraverso lo studio di documenti inediti e delle struggenti testimonianze di chi\, in prima persona\, contribuì alla costruzione e alla gestione\, fino alla definitiva chiusura. \n\n\n\nhttps://www.lanazione.it/pisa/cronaca/torna-un-fiume-di-libri-in-piazza-cavallotti-800b4b5e \n\n\n\n\nLa quarta edizione di “Un fiume di libri in Piazza Cavallotti”
URL:https://pisa.libreriaerasmus.it/appuntamento/incontro-con-daniela-bernardini-e-luigi-puccini-autori-del-libroi-cinema-dei-preti-storia-delle-sale-parrocchiali-nella-diocesi-di-pisa-aprile-2024-edizioni-ets/
CATEGORIES:UN FIUME DI LIBRI IN PIAZZA CAVALLOTTI 2024
ATTACH;FMTTYPE=image/jpeg:https://pisa.libreriaerasmus.it/wp-content/uploads/2024/06/Locandina-ets-11-luglio-I-cinema-dei-preti-11.07.2024.jpg
END:VEVENT
END:VCALENDAR