BEGIN:VCALENDAR
VERSION:2.0
PRODID:-//Libreria Erasmus Pisa - ECPv6.15.17.1//NONSGML v1.0//EN
CALSCALE:GREGORIAN
METHOD:PUBLISH
X-ORIGINAL-URL:https://pisa.libreriaerasmus.it
X-WR-CALDESC:Eventi per Libreria Erasmus Pisa
REFRESH-INTERVAL;VALUE=DURATION:PT1H
X-Robots-Tag:noindex
X-PUBLISHED-TTL:PT1H
BEGIN:VTIMEZONE
TZID:UTC
BEGIN:STANDARD
TZOFFSETFROM:+0000
TZOFFSETTO:+0000
TZNAME:UTC
DTSTART:20230101T000000
END:STANDARD
END:VTIMEZONE
BEGIN:VEVENT
DTSTART;TZID=UTC:20240714T210000
DTEND;TZID=UTC:20240714T230000
DTSTAMP:20260422T124941
CREATED:20240626T192858Z
LAST-MODIFIED:20240703T102623Z
UID:19390-1720990800-1720998000@pisa.libreriaerasmus.it
SUMMARY:Incontro con Enrico Stampacchia e Elena Ferrara curatori del libro“Il bombardamento su Pisa del 31 agosto 1943. Dai ricordi ai racconti\, dalla testimonianza alla memoria storica” (II edizione rivista e corretta luglio 2024\, Tagete edizioni)
DESCRIPTION:Interverranno \n\n\n\nMichele Quirici\, editore \n\n\n\nFulvetti GianLuca\, docente di storia contemporanea\, Università di Pisa \n\n\n\nSinossi. Pisa è una città\, come tutte del resto\, fatta di case\, di persone\, di negozi\, di rumori e di suoni. Tra questi ultimi ce n’è uno terribile che viene da molto lontano ma che solo i più attenti sentono: quello del bombardamento del 31 agosto 1943. Una pagina scritta con il sangue che è stata raccontata molte volte ma\, forse\, ancora non a sufficienza. Questo libro uscito ormai vent’anni or sono\, quando dagli eventi erano passati poco più di sessant’anni\, e oggi di nuovo edito (ampiamente riveduto e corretto) prova a salvare un pezzo di quella tragica giornata.Ventotto testimoni ci accompagnano dentro l’inferno che arrivò dal cielo e oscurò il sole. \n\n\n\nhttps://www.lanazione.it/pisa/cronaca/torna-un-fiume-di-libri-in-piazza-cavallotti-800b4b5e \n\n\n\n\nLa quarta edizione di “Un fiume di libri in Piazza Cavallotti”
URL:https://pisa.libreriaerasmus.it/appuntamento/incontro-con-enrico-stampacchia-e-elena-ferrara-curatori-del-libroil-bombardamento-su-pisa-del-31-agosto-1943-dai-ricordi-ai-racconti-dalla-testimonianza-alla-memoria-storica-ii-e/
CATEGORIES:UN FIUME DI LIBRI IN PIAZZA CAVALLOTTI 2024
ATTACH;FMTTYPE=image/jpeg:https://pisa.libreriaerasmus.it/wp-content/uploads/2024/06/LOCANDINA-14-luglio-tagete.jpg
END:VEVENT
END:VCALENDAR