BEGIN:VCALENDAR
VERSION:2.0
PRODID:-//Libreria Erasmus Pisa - ECPv6.15.17.1//NONSGML v1.0//EN
CALSCALE:GREGORIAN
METHOD:PUBLISH
X-WR-CALNAME:Libreria Erasmus Pisa
X-ORIGINAL-URL:https://pisa.libreriaerasmus.it
X-WR-CALDESC:Eventi per Libreria Erasmus Pisa
REFRESH-INTERVAL;VALUE=DURATION:PT1H
X-Robots-Tag:noindex
X-PUBLISHED-TTL:PT1H
BEGIN:VTIMEZONE
TZID:UTC
BEGIN:STANDARD
TZOFFSETFROM:+0000
TZOFFSETTO:+0000
TZNAME:UTC
DTSTART:20230101T000000
END:STANDARD
END:VTIMEZONE
BEGIN:VEVENT
DTSTART;TZID=UTC:20240827T190000
DTEND;TZID=UTC:20240827T203000
DTSTAMP:20260422T100550
CREATED:20240821T185658Z
LAST-MODIFIED:20240821T194350Z
UID:21371-1724785200-1724790600@pisa.libreriaerasmus.it
SUMMARY:Presentazione del libro “Pisa. Le trasformazioni della città storica” di Riccardo Ciuti (Felici Editore)
DESCRIPTION:Presentano il libro “Pisa. Le trasformazioni della città storica” l’editore Fabrizio Felici\, l’architetto Antonio Ghionzoli e l’autore Riccardo Ciuti.  \n\n\n\nSinossi. Nei suoi duemila anni di storia Pisa ha subìto diverse radicali discontinuità\, con conseguenti trasformazioni importanti della struttura e del paesaggio urbano. In particolare dal XVI al XX secolo viene cancellata – in parte semplicemente occultandola – l’immagine della città medievale attraverso successivi apporti di progressiva trasformazione e arricchimento. Se nella prima parte del libro verranno ricostruiti i passaggi fondamentali\, con gli interventi medicei prima\, lorenesi poi\, delle trasformazioni che hanno riguardato i principali luoghi di Pisa e che trovano il loro primo compimento nell’assetto di metà Ottocento\, nella seconda verranno descritte le trasformazioni sempre più radicali che nel tentativo di modernizzarla si sono abbattute sulla città dalla seconda metà dell’Ottocento (le nuove piazze\, il rifacimento dei lungarni\, lo sviluppo verso la stazione ferroviaria) fino all’immane distruzione della seconda guerra mondiale\, seguita da una infelice ricostruzione guidata dalla speculazione edilizia. Infine dopo aver documentato le principali trasformazioni della città storica degli ultimi cinque secoli\, nell’ultima parte del libro verrà commentata l’azione di recupero\, avviata dagli anni ’80 del Novecento che ha fatto tornare in campo il tema di una nuova progettualità applicata alla città storica con tutti i rischi relativi e le ulteriori prospettive. Le fasi più recenti della conservazione e del recupero urbano fanno intravedere scenari di possibile trasmissione alle future generazioni di questa memoria collettiva. \n\n\n\nAutore. Pisano\, ingegnere e architetto\, Riccardo Ciuti si è occupato nell’ attività professionale pubblica e privata\, principalmente di urbanistica. Negli ultimi vent’anni ha pubblicato diversi libri sulla storia urbana della sua città. Dal 2010 è docente presso l’Unidea di Pisa.
URL:https://pisa.libreriaerasmus.it/appuntamento/presentazione-del-libro-pisa-le-trasformazioni-della-citta-storica-di-riccardo-ciuti/
LOCATION:Marina Slow\, via della Sirenetta\, Marina di Pisa\, Italia
CATEGORIES:MARINA SLOW 24-31 agosto 2024 - via della Sirenetta - Marina di Pisa
ATTACH;FMTTYPE=image/jpeg:https://pisa.libreriaerasmus.it/wp-content/uploads/2024/08/Locandina-Ciuti.jpg
ORGANIZER;CN="Libreria Erasmus":MAILTO:info@libreriaerasmus.it
END:VEVENT
END:VCALENDAR