BEGIN:VCALENDAR
VERSION:2.0
PRODID:-//Libreria Erasmus Pisa - ECPv6.15.17.1//NONSGML v1.0//EN
CALSCALE:GREGORIAN
METHOD:PUBLISH
X-WR-CALNAME:Libreria Erasmus Pisa
X-ORIGINAL-URL:https://pisa.libreriaerasmus.it
X-WR-CALDESC:Eventi per Libreria Erasmus Pisa
REFRESH-INTERVAL;VALUE=DURATION:PT1H
X-Robots-Tag:noindex
X-PUBLISHED-TTL:PT1H
BEGIN:VTIMEZONE
TZID:UTC
BEGIN:STANDARD
TZOFFSETFROM:+0000
TZOFFSETTO:+0000
TZNAME:UTC
DTSTART:20230101T000000
END:STANDARD
END:VTIMEZONE
BEGIN:VEVENT
DTSTART;TZID=UTC:20240828T190000
DTEND;TZID=UTC:20240828T203000
DTSTAMP:20260422T100610
CREATED:20240821T191127Z
LAST-MODIFIED:20240822T183258Z
UID:21376-1724871600-1724877000@pisa.libreriaerasmus.it
SUMMARY:Presentazione della raccolta poetica “Ventuno canti” di Vincenzo Mirra
DESCRIPTION:Dialoga con l’autore Matteo Pelliti\, poeta e scrittore \n\n\n\nSinossi. È il mare\, attraverso la memoria di scene primordiali e il classicismo lirico di immagini ancestrali\, la chiave e il protagonista dei “Ventuno canti” con cui Mirra tesse la storia\, o potremmo dire il racconto dell’esperienza onirica di un naufragio\, fino al cuore del Mediterraneo\, e nell’abisso fossile della sua prima radice di sale.Nella ricerca di una ripetibilità metrica e di significanti classici e in parte epici\, Mirra compie una scelta coraggiosa. Il risultato è una ballata che vive e si alimenta del respiro d’acqua e della “salata avventura” del mare (Mediterraneo)\, e che si nutre di spiriti romantici e di immagini ora più idilliache ora più affilate e tragiche\, in un’alternanza ritmica che indugia sulle pause per accentuare lo sguardo sul silenzio e che si apre alle suggestioni di una nuova spazialità\, che vive contemporaneamente nel passato e nel presente: la spazialità del “non-tempo”\, dell’esistenza e delle sue rotte.“Ventuno canti”\, varco per il millennio futuro\, con cui Mirra ci consegna il testamento di un passaggio\, dalla tradizione millenaria che ci precede\, con il rimando alla memoria di luoghi\, miti e radici classiche\, alla consapevolezza dell’Esistere e del persistere\, riflesso nell’attualità delle paure e delle oscurità interiori e sociali del nostro tempo\, ponendo la questione di una necessità e di una responsabilità – di memoria e di futuro – che è materia viva che riguarda tutti noi. \n\n\n\nAutore. Nato a Napoli nel 1973\, Vincenzo Mirra è laureato in Scienze e Ingegneria dello Spazio e vive a Pisa dal 2005. Per la capacità di combinare in poesia l’espressionismo lirico con connotazioni del linguaggio matematico e scientifico\, in alcune recensioni e testi critici Mirra è considerato come “voce di un linguaggio poetico in cui si affermano in chiave sensibile elementi razionali del linguaggio”\, in uno stile innovativo che è stato definito “poesia quantistica”. Sue poesie sono state premiate\, tradotte e pubblicate su importanti blog e riviste poetiche e su quotidiani nazionali (La Repubblica\, La Nazione\, Il Mattino). Oltre alla poesia e alla narrativa di divulgazione scientifica\, Mirra ha collaborato alla scrittura di alcune produzioni musicali e per il teatro..
URL:https://pisa.libreriaerasmus.it/appuntamento/presentazione-della-raccolta-poetica-ventuno-canti-per-il-xxi-secolo-di-vincenzo-mirra/
LOCATION:Marina Slow\, via della Sirenetta\, Marina di Pisa\, Italia
CATEGORIES:MARINA SLOW 24-31 agosto 2024 - via della Sirenetta - Marina di Pisa
ATTACH;FMTTYPE=image/jpeg:https://pisa.libreriaerasmus.it/wp-content/uploads/2024/08/Locandina-Mirra.jpeg
ORGANIZER;CN="Libreria Erasmus":MAILTO:info@libreriaerasmus.it
END:VEVENT
END:VCALENDAR