BEGIN:VCALENDAR
VERSION:2.0
PRODID:-//Libreria Erasmus Pisa - ECPv6.15.17.1//NONSGML v1.0//EN
CALSCALE:GREGORIAN
METHOD:PUBLISH
X-WR-CALNAME:Libreria Erasmus Pisa
X-ORIGINAL-URL:https://pisa.libreriaerasmus.it
X-WR-CALDESC:Eventi per Libreria Erasmus Pisa
REFRESH-INTERVAL;VALUE=DURATION:PT1H
X-Robots-Tag:noindex
X-PUBLISHED-TTL:PT1H
BEGIN:VTIMEZONE
TZID:UTC
BEGIN:STANDARD
TZOFFSETFROM:+0000
TZOFFSETTO:+0000
TZNAME:UTC
DTSTART:20230101T000000
END:STANDARD
END:VTIMEZONE
BEGIN:VEVENT
DTSTART;TZID=UTC:20241102T173000
DTEND;TZID=UTC:20241102T193000
DTSTAMP:20260422T071446
CREATED:20241031T135344Z
LAST-MODIFIED:20241031T135349Z
UID:23324-1730568600-1730575800@pisa.libreriaerasmus.it
SUMMARY:Reading performativo Mediterraneo (Poe)Sia. Canti e cammini di Mare Nostro con i poeti Vincenzo Mirra e Roberto Crinò
DESCRIPTION:Reading performativo Mediterraneo (Poe)Sia. Canti e cammini di Mare Nostro dei poeti Roberto Crinò e Vincenzo Mirra con letture tratte dalle loro ultime opere di poesie edite\, ovvero “Ogni felicità sui vostri cammini” di Roberto Crinò\, (Spazio Cultura Edizioni\, 2024) e “Ventuno canti” di Vincenzo Mirra (Edizioni Ensemble\, 2024).Il tema comune su cui gli autori hanno costruito il loro incontro di poesia recitativa riguarda lo svolgersi dell’esperienza umana\, tra cadute e slanci\, tra approdi e naufragi\, tra memoria di radici e prospettive di nuovi cammini e di futuro\, con una narrazione poetica che percorre la metafora del mare e del viaggio. Il risultato è una mappatura esistenziale che appare come paradigma testamentario e generativo di esperienze\, saperi\, prospettive\, trame\, cadute e rinascite\, nel continuo fluire e persistere di ciò che ci ha preceduti (le radici\, la memoria) e di ciò che ci seguirà. La poesia si presenta così anche come strumento catartico di meditazione per riflettere insieme sull’attualità delle paure e delle oscurità interiori e sociali del nostro tempo.
URL:https://pisa.libreriaerasmus.it/appuntamento/reading-performativo-mediterraneo-poesia-canti-e-cammini-di-mare-nostro-con-i-poeti-vincenzo-mirra-e-roberto-crino/
CATEGORIES:Presentazioni
ATTACH;FMTTYPE=image/jpeg:https://pisa.libreriaerasmus.it/wp-content/uploads/2024/10/Immagine-WhatsApp-2024-10-26-ore-10.34.48_48fbb4b1.jpg
ORGANIZER;CN="Libreria Erasmus":MAILTO:info@libreriaerasmus.it
END:VEVENT
END:VCALENDAR