BEGIN:VCALENDAR
VERSION:2.0
PRODID:-//Libreria Erasmus Pisa - ECPv6.15.17.1//NONSGML v1.0//EN
CALSCALE:GREGORIAN
METHOD:PUBLISH
X-WR-CALNAME:Libreria Erasmus Pisa
X-ORIGINAL-URL:https://pisa.libreriaerasmus.it
X-WR-CALDESC:Eventi per Libreria Erasmus Pisa
REFRESH-INTERVAL;VALUE=DURATION:PT1H
X-Robots-Tag:noindex
X-PUBLISHED-TTL:PT1H
BEGIN:VTIMEZONE
TZID:UTC
BEGIN:STANDARD
TZOFFSETFROM:+0000
TZOFFSETTO:+0000
TZNAME:UTC
DTSTART:20230101T000000
END:STANDARD
END:VTIMEZONE
BEGIN:VEVENT
DTSTART;TZID=UTC:20241130T173000
DTEND;TZID=UTC:20241130T190000
DTSTAMP:20260422T040557
CREATED:20241129T193139Z
LAST-MODIFIED:20241129T193147Z
UID:23695-1732987800-1732993200@pisa.libreriaerasmus.it
SUMMARY:Presentazione della nuova silloge di Marco dei Ferrari “Interstizi 44” (Edizioni Helicon)
DESCRIPTION:Sabato 30 novembre alle 17\,30 presso la Libreria Erasmus in Piazza Cavallotti\, si terrà la presentazione della nuova silloge di Marco dei Ferrari “Interstizi 44” di nuova stampa per le Edizioni Helicon.  \n\n\n\nA presentarla saranno Floriano Romboli\, scrittore e critico letterario\, e Cristiana Vettori\, critica letteraria e scrittrice; l’attore Giacomo Lemmetti leggerà le poesie.  \n\n\n\nMarco dei Ferrari\, animatore di manifestazioni culturali e “ricercatore” sperimentale di poesia\, collabora con “Alla volta di Leucade” il blog letterario diretto dallo scrittore Nazario Pardini. Amico di Alda Merini – un’amicizia stretta a Milano sui Navigli – ha consolidato un filone itinerante di “lirica dell’irrazionale fantastico” che persegue nella sua più recente ispirazione. Si definisce “pisano per passione”\, in quanto\, pur essendo piemontese-lombardo di nascita e ligure di adozione\, si è stabilito nella nostra città ed è rimasto affascinato “dalla simbiosi estetico-artistica che la caratterizza e dai suoi suggestivi panorami aperti sull’Arno”. Anche nella nuova silloge “Interstizi 44”\, un’intera sezione è dedicata a Pisa\, in liriche che rappresentano la città come ancora connotata dallo spirito del grande sogno universale testimoniato dai monumenti\, dalle opere d’arte\, dalle memorie delle gesta compiute e delle figure che l’abitarono.  \n\n\n\nDei Ferrari riserva inoltre una particolare attenzione al concetto di parola\, ritenendola “tuttora insufficiente a documentare la realtà delle cose e dell’essere. La parola è attualmente utilizzata solo per esprimere una logica ricca di formalità\, ma vuota di referenze certe”.  \n\n\n\nBisogna cercare negli interstizi della normalità\, oltre le convenzioni e l’insignificanza\, per recuperare ciò che può dirsi ancora umano: ed è proprio questo lo spazio della poesia.  \n\n\n\nLa silloge è dedicata alla compianta poetessa Edda Pellegrini Conte\, a cui Marco dei Ferrari era legato da una profonda e devota amicizia.
URL:https://pisa.libreriaerasmus.it/appuntamento/presentazione-della-nuova-silloge-di-marco-dei-ferrari-interstizi-44-edizioni-helicon/
CATEGORIES:Presentazioni
ATTACH;FMTTYPE=image/jpeg:https://pisa.libreriaerasmus.it/wp-content/uploads/2024/11/locandina-presentazionei.jpg
END:VEVENT
END:VCALENDAR