BEGIN:VCALENDAR
VERSION:2.0
PRODID:-//Libreria Erasmus Pisa - ECPv6.15.17.1//NONSGML v1.0//EN
CALSCALE:GREGORIAN
METHOD:PUBLISH
X-ORIGINAL-URL:https://pisa.libreriaerasmus.it
X-WR-CALDESC:Eventi per Libreria Erasmus Pisa
REFRESH-INTERVAL;VALUE=DURATION:PT1H
X-Robots-Tag:noindex
X-PUBLISHED-TTL:PT1H
BEGIN:VTIMEZONE
TZID:UTC
BEGIN:STANDARD
TZOFFSETFROM:+0000
TZOFFSETTO:+0000
TZNAME:UTC
DTSTART:20240101T000000
END:STANDARD
END:VTIMEZONE
BEGIN:VEVENT
DTSTART;TZID=UTC:20250606T183000
DTEND;TZID=UTC:20250606T200000
DTSTAMP:20260421T125952
CREATED:20250605T173426Z
LAST-MODIFIED:20250605T173427Z
UID:29011-1749234600-1749240000@pisa.libreriaerasmus.it
SUMMARY:Presentazione del libro di poesie "L'era del futuro che non ha niente di nuovo" (Carmignani editrice) di Laura Vescio Bonacci
DESCRIPTION:L’autrice dialoga con Stefania Giammillaro\, scrittrice e poetessa \n\n\n\nLaura Vescio Bonacci\, autrice di origine calabrese\, propone una silloge che tenta di scrutare il mistero che siamo. Un modo timido e discreto di raccontare frammenti di ció che abbiamo sotto gli occhi ma non vediamo
URL:https://pisa.libreriaerasmus.it/appuntamento/presentazione-del-libro-di-poesie-lera-del-futuro-che-non-ha-niente-di-nuovo-carmignani-editrice-di-laura-vescio-bonacci/
LOCATION:Libreria Erasmus\, Piazza Cavallotti Pisa\, Piazza Cavallotti 9\, Pisa\, 56126\, Italia
ATTACH;FMTTYPE=image/jpeg:https://pisa.libreriaerasmus.it/wp-content/uploads/2025/06/Laura-Vescio.jpg
ORGANIZER;CN="Libreria Erasmus":MAILTO:info@libreriaerasmus.it
END:VEVENT
END:VCALENDAR