BEGIN:VCALENDAR
VERSION:2.0
PRODID:-//Libreria Erasmus Pisa - ECPv6.15.17.1//NONSGML v1.0//EN
CALSCALE:GREGORIAN
METHOD:PUBLISH
X-ORIGINAL-URL:https://pisa.libreriaerasmus.it
X-WR-CALDESC:Eventi per Libreria Erasmus Pisa
REFRESH-INTERVAL;VALUE=DURATION:PT1H
X-Robots-Tag:noindex
X-PUBLISHED-TTL:PT1H
BEGIN:VTIMEZONE
TZID:UTC
BEGIN:STANDARD
TZOFFSETFROM:+0000
TZOFFSETTO:+0000
TZNAME:UTC
DTSTART:20240101T000000
END:STANDARD
END:VTIMEZONE
BEGIN:VEVENT
DTSTART;TZID=UTC:20250616T170000
DTEND;TZID=UTC:20250616T190000
DTSTAMP:20260421T142731
CREATED:20250614T113107Z
LAST-MODIFIED:20250614T113109Z
UID:29102-1750093200-1750100400@pisa.libreriaerasmus.it
SUMMARY:Firmacopie del nuovo romanzo di Anna Cancellieri “La guerra dell’acqua” (Il Ciliegio edizioni)
DESCRIPTION:Firmacopie del nuovo romanzo di Anna Cancellieri “La guerra dell’acqua” (Il ciliegio edizioni).  \n\n\n\nLa storia ha inizio nel 1209 a Padova quando un magister incontra un ragazzo di tredici anni\, Jacopo\, e intuisce in lui un talento da ingegnere e ne condivide il sogno: una nuova Università per la comunità cittadina di Padova\, la cui economia si regge sull’energia idraulica. Ma Vicenza mette in ginocchio la città rivale con un oltraggio devastante: il furto del fiume. Il magister teme che una città così vulnerabile non sia adatta a ospitare uno “Studio”. Jacopo è disposto a sfidare ogni ostacolo e imbarcarsi in un’impresa piena di insidie per difendere il suo sogno \n\n\n\nLaureata in Fisica\, diplomata in pianoforte\, acquerellista e illustratrice\, videomaker\, l’autrice Anna Cancellieri è iscritta all’Associazione Autori per Ragazzi e da anni partecipa a incontri con alunni di scuola primaria e secondaria.
URL:https://pisa.libreriaerasmus.it/appuntamento/firmacopie-del-nuovo-romanzo-di-anna-cancellieri-la-guerra-dellacqua-il-ciliegio-edizioni/
LOCATION:libreria Erasmus\, piazza Cavallotti 9\, LIBRERIA ERASMUS\, PISA\, PI\, 56126
ATTACH;FMTTYPE=image/png:https://pisa.libreriaerasmus.it/wp-content/uploads/2025/06/Locandina-Firmacopie-Libreria-Erasmus-Pisa-16-giugno.png
END:VEVENT
END:VCALENDAR