BEGIN:VCALENDAR
VERSION:2.0
PRODID:-//Libreria Erasmus Pisa - ECPv6.15.17.1//NONSGML v1.0//EN
CALSCALE:GREGORIAN
METHOD:PUBLISH
X-WR-CALNAME:Libreria Erasmus Pisa
X-ORIGINAL-URL:https://pisa.libreriaerasmus.it
X-WR-CALDESC:Eventi per Libreria Erasmus Pisa
REFRESH-INTERVAL;VALUE=DURATION:PT1H
X-Robots-Tag:noindex
X-PUBLISHED-TTL:PT1H
BEGIN:VTIMEZONE
TZID:UTC
BEGIN:STANDARD
TZOFFSETFROM:+0000
TZOFFSETTO:+0000
TZNAME:UTC
DTSTART:20240101T000000
END:STANDARD
END:VTIMEZONE
BEGIN:VEVENT
DTSTART;VALUE=DATE:20250704
DTEND;VALUE=DATE:20250705
DTSTAMP:20260421T103724
CREATED:20250701T192114Z
LAST-MODIFIED:20250701T192217Z
UID:29372-1751587200-1751673599@pisa.libreriaerasmus.it
SUMMARY:III presentazione della V edizione della rassegna di editoria "Un fiume di libri in piazza Cavallotti": "Magia in libreria. Storia dall'aldilà" di Guya Vichi e Samuele Socci (Tagete editore)
DESCRIPTION:I due autori del libro “Magia in libreria. Storia dall’aldilà”\, Guya Vichi e Samuele Socci dialogano con l’editore Michele Quirici. \nChe cosa direbbero\, oggi\, i grandi personaggi del passato a chi ponesse loro delle domande sulla loro vita e sull’attualità? Il libro “Magia in libreria. Storie dall’aldilà” si propone di rispondere\, almeno in parte\, a questo quesito\, andando ad interpellare direttamente le fonti.\nLa storia si svolge a Roma\, all’interno di una libreria che ha una speciale licenza per restare aperta tutta la notte e che Orfeo\, ragazzo molto colto\, ma insonne ed irrequieto\, accetta di gestire. Tutto a un tratto\, in seguito alla visita di un cliente “speciale”\, alcuni dei più grandi personaggi della storia cominciano a conversare con lui\, che non riesce a credere alle proprie orecchie e che\, dopo una iniziale resistenza\, accetta di trascrivere i messaggi che Seneca\, Leonardo Da Vinci\, Mozart\, Jung\, Lincoln e molti altri illustri uomini del passato vogliono dare alla società contemporanea\, affinché gli uomini del nostro tempo possano migliorare le proprie vite e il pianeta nel quale vivono. Le risposte alle domande di Orfeo e i messaggi sono il frutto di conversazioni che Guya Vichi\, affermata maestra di Yoga e sensitiva di Pontedera (Pi)\, ha avuto con le anime dei suddetti personaggi\, in presenza di Samuele Socci che le ha trascritte e trasformate in un racconto. Il lettore può anche ritenerle frutto di fantasia\, quel che conta è aver fornito da una fonte di ispirazione un significativo spunto di riflessione.
URL:https://pisa.libreriaerasmus.it/appuntamento/iii-presentazione-della-v-edizione-della-rassegna-di-editoria-un-fiume-di-libri-in-piazza-cavallotti-magia-in-libreria-storia-dallaldila-di-guya-vichi-e-samuele-socci-tagete-editore/
LOCATION:piazza Cavallotti
CATEGORIES:UN FIUME DI LIBRI IN PIAZZA CAVALLOTTI 2025 V Edizione
ATTACH;FMTTYPE=image/jpeg:https://pisa.libreriaerasmus.it/wp-content/uploads/2025/07/LOCANDINA-Magia-in-libreria-scaled.jpg
END:VEVENT
END:VCALENDAR