BEGIN:VCALENDAR
VERSION:2.0
PRODID:-//Libreria Erasmus Pisa - ECPv6.15.17.1//NONSGML v1.0//EN
CALSCALE:GREGORIAN
METHOD:PUBLISH
X-WR-CALNAME:Libreria Erasmus Pisa
X-ORIGINAL-URL:https://pisa.libreriaerasmus.it
X-WR-CALDESC:Eventi per Libreria Erasmus Pisa
REFRESH-INTERVAL;VALUE=DURATION:PT1H
X-Robots-Tag:noindex
X-PUBLISHED-TTL:PT1H
BEGIN:VTIMEZONE
TZID:UTC
BEGIN:STANDARD
TZOFFSETFROM:+0000
TZOFFSETTO:+0000
TZNAME:UTC
DTSTART:20240101T000000
END:STANDARD
END:VTIMEZONE
BEGIN:VEVENT
DTSTART;VALUE=DATE:20250711
DTEND;VALUE=DATE:20250712
DTSTAMP:20260421T113047
CREATED:20250708T204103Z
LAST-MODIFIED:20250708T204103Z
UID:29390-1752192000-1752278399@pisa.libreriaerasmus.it
SUMMARY:VI presentazione della V edizione della rassegna di editoria “Un fiume di libri in piazza Cavallotti”: "Al vostro posto non ci so stare. Dei delitti e delle pene secondo Fabrizio De André” di Fabrizio Bartelloni (Pacini editore)
DESCRIPTION:Dialogano con l’autore Laura Antonelli\, Athos Bigongiali e Massimo Monacci. \nUn saggio brillante\, ma al tempo stesso profondo e a tratti commovente\, nel quale Fabrizio Bartelloni\, avvocato penalista del foro di Pisa da oltre vent’anni e magistrato onorario presso la Procura di Lucca\, analizza e approfondisce il modo in cui Fabrizio De André ha affrontato\, nel suo percorso umano e artistico\, i temi della legge\, della giustizia e della pena. \nAttraverso un’accurata analisi del canzoniere deandreiano\, arricchita da numerose ricerche e riferimenti biografici – dal drammatico episodio del rapimento all’incontro “segreto” con i detenuti del carcere di Is Arenas – l’autore\, che è anche appassionato cultore della canzone d’autore italiana\, ricostruisce il profondo legame tra la vita di De André e i suoi testi. Ne emerge una riflessione lucida e poetica sul rapporto tra l’essere umano e la giustizia penale.  Il volume\, edito da Pacini Editore\, è patrocinato dal Museo Viadelcampo29rosso e dalla Camera Penale di Pisa. Si propone anche come strumento di sensibilizzazione sulle condizioni carcerarie e\, più in generale\, sulla funzione della pena nella nostra società. \nDa sempre appassionato di parole e delle loro forme (racconto\, storia\, canzone) Fabrizio Bartelloni è autore di diversi libri di narrativa (l’ultimo\, “Alibi. Zibaldone di fughe\, scuse e autoassoluzioni”\, 2023) e curatore\, dal 2015\, della collana «Cattive strade» per MdS editore. È inoltre ideatore e conduttore di rassegne e incontri dedicati alla canzone d’autore. Con Pacini Editore ha già pubblicato\, nel 2022 insieme a Marco Masoni\, il saggio “Lettere da sopra la pioggia. Intrecci tra musica e letteratura nella canzone italiana”. \n  \n  \n 
URL:https://pisa.libreriaerasmus.it/appuntamento/vi-presentazione-della-v-edizione-della-rassegna-di-editoria-un-fiume-di-libri-in-piazza-cavallotti-al-vostro-posto-non-ci-so-stare-dei-delitti-e-delle-pene-secondo-fabrizio-de-a/
LOCATION:piazza Cavallotti
CATEGORIES:UN FIUME DI LIBRI IN PIAZZA CAVALLOTTI 2025 V Edizione
ATTACH;FMTTYPE=image/jpeg:https://pisa.libreriaerasmus.it/wp-content/uploads/2025/07/Locandina-11-luglio.jpg
END:VEVENT
END:VCALENDAR