BEGIN:VCALENDAR
VERSION:2.0
PRODID:-//Libreria Erasmus Pisa - ECPv6.15.17.1//NONSGML v1.0//EN
CALSCALE:GREGORIAN
METHOD:PUBLISH
X-WR-CALNAME:Libreria Erasmus Pisa
X-ORIGINAL-URL:https://pisa.libreriaerasmus.it
X-WR-CALDESC:Eventi per Libreria Erasmus Pisa
REFRESH-INTERVAL;VALUE=DURATION:PT1H
X-Robots-Tag:noindex
X-PUBLISHED-TTL:PT1H
BEGIN:VTIMEZONE
TZID:UTC
BEGIN:STANDARD
TZOFFSETFROM:+0000
TZOFFSETTO:+0000
TZNAME:UTC
DTSTART:20240101T000000
END:STANDARD
END:VTIMEZONE
BEGIN:VEVENT
DTSTART;VALUE=DATE:20250716
DTEND;VALUE=DATE:20250717
DTSTAMP:20260421T094014
CREATED:20250714T174502Z
LAST-MODIFIED:20250714T174502Z
UID:29398-1752624000-1752710399@pisa.libreriaerasmus.it
SUMMARY:VIII Presentazione della V edizione della rassegna di editoria “Un fiume di libri in piazza Cavallotti”: "Diario. 31 agosto 1943 - 1 gennaio 1945" di Beatrice Giglioli
DESCRIPTION:Dialogo tra \nStefano Gallo\, direttore scientifico Bfs\, \nMassimiliano Bacchiett\, scrittore\, \nCaterina Di Pasquale\, docente universitaria. \nScritto in presa diretta durante i tragici mesi di guerra che si abbatterono sul territorio pisano\, il volume è la traduzione in italiano di due dei diari di Beatrice Giglioli (originariamente scritti in lingua inglese perché l’autrice è legata all’Inghilterra non meno che all’Italia per via dei suoi genitori). \nSi tratta di un documento inedito\, che apre una nuova finestra di indagine sulla storia che la città di Pisa ha vissuto tra l’estate del 1943 e gli inizi del 1945. I protagonisti sono Beatrice Giglioli\, sua sorella Irene e il gruppo di persone e di famiglie che trovarono rifugio nella Villa delle sorelle Giglioli\, nella zona est della periferia di Pisa. Sono pagine di drammatica quotidianità\, dove l’autrice e la piccola comunità di civili raccolti intorno a sé cercano insieme di sopravvivere e di opporsi al male e alla violenza aiutandosi reciprocamente\, per non perdere\, oltre che la vita\, anche il rispetto di sé. \nIntegrato da un consistente apparato critico (curato da Barbara Cattaneo\, Giorgio Mangini e Franco Bertolucci)\, documentario e iconografico con oltre 200 immagini\, per favorire il più possibile una lettura adeguata al ritmo spesso incalzante degli avvenimenti descritti e per consentire di apprezzare l’originalità e l’intima coerenza delle annotazioni quotidiane di Beatrice Giglioli\, il diario è accompagnato dalle memorie di Antonio Ricci\, testimone vivente degli avvenimenti raccontati. Figlio adolescente della cuoca di casa Giglioli e animato da un profondo affetto nei confronti della famiglia di Beatrice\, Ricci ne ha conservato con cura l’archivio\, che in tempi recenti ha voluto donare alla Biblioteca Franco Serantini \nBeatrice Giglioli (1892-1988) ha insegnato lingua e letteratura inglese per oltre trent’anni alla Scuola Normale Superiore e al Liceo classico Galilei di Pisa. Discende da una famiglia originaria di Brescello (RE)\, che aveva avuto importanti trascorsi risorgimentali. \n 
URL:https://pisa.libreriaerasmus.it/appuntamento/viii-presentazione-della-v-edizione-della-rassegna-di-editoria-un-fiume-di-libri-in-piazza-cavallotti-diario-31-agosto-1943-1-gennaio-1945-di-beatrice-giglioli/
CATEGORIES:UN FIUME DI LIBRI IN PIAZZA CAVALLOTTI 2025 V Edizione
ATTACH;FMTTYPE=image/jpeg:https://pisa.libreriaerasmus.it/wp-content/uploads/2025/07/LOCANDINA-16-LUGLIO.jpg
END:VEVENT
END:VCALENDAR