BEGIN:VCALENDAR
VERSION:2.0
PRODID:-//Libreria Erasmus Pisa - ECPv6.15.17.1//NONSGML v1.0//EN
CALSCALE:GREGORIAN
METHOD:PUBLISH
X-WR-CALNAME:Libreria Erasmus Pisa
X-ORIGINAL-URL:https://pisa.libreriaerasmus.it
X-WR-CALDESC:Eventi per Libreria Erasmus Pisa
REFRESH-INTERVAL;VALUE=DURATION:PT1H
X-Robots-Tag:noindex
X-PUBLISHED-TTL:PT1H
BEGIN:VTIMEZONE
TZID:UTC
BEGIN:STANDARD
TZOFFSETFROM:+0000
TZOFFSETTO:+0000
TZNAME:UTC
DTSTART:20240101T000000
END:STANDARD
END:VTIMEZONE
BEGIN:VEVENT
DTSTART;TZID=UTC:20250721T211500
DTEND;TZID=UTC:20250721T230000
DTSTAMP:20260421T100637
CREATED:20250717T190456Z
LAST-MODIFIED:20250718T212254Z
UID:29406-1753132500-1753138800@pisa.libreriaerasmus.it
SUMMARY:X Presentazione della V edizione della rassegna di editoria “Un fiume di libri in piazza Cavallotti”: "Pisa romana. Le domus di piazza Andrea Del Sarto" di Fabio Fabiani
DESCRIPTION:Dialoga con l’autore di “Pisa romana. Le domus di piazza Andrea Del Sarto”\, Fabio Fabiani\, il dottor Stefano Genovesi. \nNel corso della presentazione saranno proiettate immagine degli scavi. \nIn piazza Andrea del Sarto a Pisa\, all’esterno delle mura medievali che chiudono la celebre piazza dei Miracoli\, là dove fino al XIX secolo si estendeva la campagna\, sono affiorati i resti di un quartiere residenziale di età romana\, con domus dotate di pregevoli apparati decorativi\, del tutto analoghe a quelle presenti immediatamente al di sotto del prato di piazza del Duomo. Le une e le altre componevano dunque il vasto settore occidentale della città\, che si estendeva assecondando l’ampia ansa del fiume Auser\, oggi scomparso dal paesaggio urbano. La scoperta\, effettuata dal Dipartimento di Civiltà e Forme del Sapere dell’Università di Pisa nell’ambito delle ricerche legate al Pisa Progetto Suburbio\, arricchisce ora le nostre conoscenze sulla città antica\, permettendoci di riflettere sui notevoli cambiamenti che la sua forma ha subito nel tempo\, in risposta a processi storici di lunga durata e a profondi mutamenti ambientali.
URL:https://pisa.libreriaerasmus.it/appuntamento/x-presentazione-della-v-edizione-della-rassegna-di-editoria-un-fiume-di-libri-in-piazza-cavallotti-pisa-romana-le-domus-di-piazza-andrea-del-sarto-di-fabio-fabiani/
ATTACH;FMTTYPE=image/jpeg:https://pisa.libreriaerasmus.it/wp-content/uploads/2025/07/LOCANDINA-21-LUGLIO-PUP.jpg
END:VEVENT
END:VCALENDAR