BEGIN:VCALENDAR
VERSION:2.0
PRODID:-//Libreria Erasmus Pisa - ECPv6.15.17.1//NONSGML v1.0//EN
CALSCALE:GREGORIAN
METHOD:PUBLISH
X-WR-CALNAME:Libreria Erasmus Pisa
X-ORIGINAL-URL:https://pisa.libreriaerasmus.it
X-WR-CALDESC:Eventi per Libreria Erasmus Pisa
REFRESH-INTERVAL;VALUE=DURATION:PT1H
X-Robots-Tag:noindex
X-PUBLISHED-TTL:PT1H
BEGIN:VTIMEZONE
TZID:UTC
BEGIN:STANDARD
TZOFFSETFROM:+0000
TZOFFSETTO:+0000
TZNAME:UTC
DTSTART:20250101T000000
END:STANDARD
END:VTIMEZONE
BEGIN:VEVENT
DTSTART;TZID=UTC:20260124T170000
DTEND;TZID=UTC:20260124T190000
DTSTAMP:20260421T150116
CREATED:20260123T201259Z
LAST-MODIFIED:20260123T201529Z
UID:33674-1769274000-1769281200@pisa.libreriaerasmus.it
SUMMARY:Presentazione del libro "I Libri di Ssun" di Sauro Donati. Dialogherà con l’Autore Luciano Luciani. 
DESCRIPTION:Sabato 24 gennaio alle ore 17:00 si terrà la presentazione del libro di Sauro Donati\, “I Libri di Ssun”\, LGP\, Pisa 2024.  \nDialogherà con l’Autore Luciano Luciani. \nNelle pagine di questo romanzo di fantascienza Sauro Donati si fonda sull’ipotesi che il grande pensiero greco-romano e la conseguente civiltà siano stati in gran parte orientati da individui appartenenti a una superiore civiltà galattica\, vocati alla diffusione della cultura\, scientifica e umanistica\, e al mantenimento della pace. \nSauro Donati\, nato nel 1959\, è un astronomo italiano. Il Minor Planet Center gli accredita la scoperta di ventidue asteroidi tra il 1998 e il 2000\, di cui uno in collaborazione con  Matteo Santangelo. Tra il 2007 e il 2018 ha co-scoperto 24 supernovae. Gli è stato dedicato l’asteroide 69977 Saurodonati. Scrittore di numerose opere letterarie principalmente di fantascienza e per tale attività nel 2011 ha vinto il Trofeo Penna d’Autore con il romanzo Cristoval Colòn.
URL:https://pisa.libreriaerasmus.it/appuntamento/presentazione-del-libro-i-libri-di-ssun-di-sauro-donati-dialoghera-con-lautore-luciano-luciani/
CATEGORIES:Presentazioni
END:VEVENT
END:VCALENDAR