BEGIN:VCALENDAR
VERSION:2.0
PRODID:-//Libreria Erasmus Pisa - ECPv6.15.17.1//NONSGML v1.0//EN
CALSCALE:GREGORIAN
METHOD:PUBLISH
X-WR-CALNAME:Libreria Erasmus Pisa
X-ORIGINAL-URL:https://pisa.libreriaerasmus.it
X-WR-CALDESC:Eventi per Libreria Erasmus Pisa
REFRESH-INTERVAL;VALUE=DURATION:PT1H
X-Robots-Tag:noindex
X-PUBLISHED-TTL:PT1H
BEGIN:VTIMEZONE
TZID:UTC
BEGIN:STANDARD
TZOFFSETFROM:+0000
TZOFFSETTO:+0000
TZNAME:UTC
DTSTART:20250101T000000
END:STANDARD
END:VTIMEZONE
BEGIN:VEVENT
DTSTART;VALUE=DATE:20260207
DTEND;VALUE=DATE:20260208
DTSTAMP:20260421T164726
CREATED:20260204T113636Z
LAST-MODIFIED:20260204T174916Z
UID:34273-1770422400-1770508799@pisa.libreriaerasmus.it
SUMMARY:Presentazione del libro "Il teorema di Fibonacci" di Giorgio Ventura
DESCRIPTION:Un mistero medievale\, un enigma matematico\, una storia che affonda le radici nella Pisa di Fibonacci\, un giallo medievale che intreccia storia\, matematica e suspense.\nAmbientato nel mondo di Leonardo Pisano – Fibonacci\, “Il teorema di Fibonacci” di Giorgio Ventura conduce il lettore in un’indagine dove numeri e simboli diventano chiavi narrative e il sapere scientifico entra nella trama come parte integrante del mistero. Un racconto capace di trasformare il fascino della conoscenza in tensione narrativa\, riportando in scena un Medioevo vivo\, colto e sorprendente.\nA moderare l’incontro sarà Antonella Magliocchi. \nInterverrà Alessandro Canestrelli\, autore di “Leonardo Pisano\, Fibonacci: per novem figuras indorum”\, per un dialogo tra romanzo\, contesto storico e immaginario matematico\, a partire dalla figura di Fibonacci e dall’eredità culturale che ancora oggi ispira racconti\, domande e nuove interpretazioni.
URL:https://pisa.libreriaerasmus.it/appuntamento/presentazione-del-libro-il-teorema-di-fibonacci-di-giorgio-ventura/
CATEGORIES:Presentazioni
ATTACH;FMTTYPE=image/jpeg:https://pisa.libreriaerasmus.it/wp-content/uploads/2026/02/LOCANDINA-IL-TEOREMA-DI-FIBONACCI.jpg
END:VEVENT
END:VCALENDAR