BEGIN:VCALENDAR
VERSION:2.0
PRODID:-//Libreria Erasmus Pisa - ECPv6.15.17.1//NONSGML v1.0//EN
CALSCALE:GREGORIAN
METHOD:PUBLISH
X-ORIGINAL-URL:https://pisa.libreriaerasmus.it
X-WR-CALDESC:Eventi per Libreria Erasmus Pisa
REFRESH-INTERVAL;VALUE=DURATION:PT1H
X-Robots-Tag:noindex
X-PUBLISHED-TTL:PT1H
BEGIN:VTIMEZONE
TZID:UTC
BEGIN:STANDARD
TZOFFSETFROM:+0000
TZOFFSETTO:+0000
TZNAME:UTC
DTSTART:20250101T000000
END:STANDARD
END:VTIMEZONE
BEGIN:VEVENT
DTSTART;VALUE=DATE:20260211
DTEND;VALUE=DATE:20260212
DTSTAMP:20260421T165100
CREATED:20260209T205533Z
LAST-MODIFIED:20260209T205533Z
UID:34620-1770768000-1770854399@pisa.libreriaerasmus.it
SUMMARY:Presentazione del libro "Il codice di Schrodinger. Come la meccanica quantistica ha rivoluzionato la fisica\, la filosofia\, e la tecnologia” di Riccardo Adami\,
DESCRIPTION:Presentazione del libro “Il codice di Schrodinger. Come la meccanica quantistica ha rivoluzionato la fisica\, la filosofia\, e la tecnologia” di Riccardo Adami (Dedalo edizioni)\nL’autore del libro dialogherà con Claudia Musumeci\, biologa presso il Centro Interuniversitario di Biologia Marina di Livorno\nCi sono libri che parlano di fisica e libri che parlano di vita\, l’obiettivo del libro di Adami è quello di parlare di entrambi avvicinando la meccanica quantistica ad un pubblico più ampio. Senza la fisica dei quanti non avremmo computer né telefoni cellulari\, ma nonostante l’importanza che ha nella vita quotidiana questa teoria non appartiene al patrimonio delle narrazioni condivise al grande pubblico. Adami ci accompagna in un viaggio attraverso i princìpi della fisica dei quanti\, passando per il gatto di Schrödinger e il mistero dell’entanglement. Lo scopo è quello di offrirci gli strumenti necessari per comprendere le basi della crittografia quantistica\, che si occupa proprio di garantire comunicazioni sicure e la riservatezza dei nostri dati e che è diventata pervasiva: siamo circondati da microfoni e telecamere\, e facciamo un uso quasi ininterrotto di e-mail\, transazioni bancarie online e social.\nLaureato in fisica all’Università di Pisa nel 1996\, Riccardo Adami è professore ordinario presso il Politecnico di Torino\, dove insegna Matematica per l’Ingegneria Quantistica e Crittografia Quantistica. È autore di numerose pubblicazioni scientifiche e collabora con diversi gruppi di ricerca internazionali.
URL:https://pisa.libreriaerasmus.it/appuntamento/presentazione-del-libro-il-codice-di-schrodinger-come-la-meccanica-quantistica-ha-rivoluzionato-la-fisica-la-filosofia-e-la-tecnologia-di-riccardo-adami/
CATEGORIES:Presentazioni
ATTACH;FMTTYPE=image/jpeg:https://pisa.libreriaerasmus.it/wp-content/uploads/2026/02/Locandinda-Adami-Pisa-scaled.jpeg
END:VEVENT
END:VCALENDAR