BEGIN:VCALENDAR
VERSION:2.0
PRODID:-//Libreria Erasmus Pisa - ECPv6.15.17.1//NONSGML v1.0//EN
CALSCALE:GREGORIAN
METHOD:PUBLISH
X-WR-CALNAME:Libreria Erasmus Pisa
X-ORIGINAL-URL:https://pisa.libreriaerasmus.it
X-WR-CALDESC:Eventi per Libreria Erasmus Pisa
REFRESH-INTERVAL;VALUE=DURATION:PT1H
X-Robots-Tag:noindex
X-PUBLISHED-TTL:PT1H
BEGIN:VTIMEZONE
TZID:UTC
BEGIN:STANDARD
TZOFFSETFROM:+0000
TZOFFSETTO:+0000
TZNAME:UTC
DTSTART:20210101T000000
END:STANDARD
END:VTIMEZONE
BEGIN:VEVENT
DTSTART;TZID=UTC:20220712T211500
DTEND;TZID=UTC:20220712T231500
DTSTAMP:20260422T023937
CREATED:20220629T182639Z
LAST-MODIFIED:20220711T161854Z
UID:15245-1657660500-1657667700@pisa.libreriaerasmus.it
SUMMARY:Da monologo teatrale a romanzo - Un fiume di libri in piazza Cavallotti
DESCRIPTION:MARTEDI’ 12 LUGLIO PRESENTAZIONE – MdS EDITORE \n\n\n\n \n\n\n\n Marco Ursano\, Homo pandemicus (maggio 2022) \n\n\n\nFabrizio Bartelloni intervista l’autore Marco Ursano \n\n\n\nHomo pandemicus. Nasce come monologo teatrale per l’attore Fulvio Cauteruccio e si trasforma in romanzo. È la cronaca dei mesi e delle fasi della pandemia attraverso lo sguardo di un uomo comune. Il lockdown\, la famiglia\, la città\, i vicini di casa\, le fughe dalla reclusione\, il mondo virtuale in cui trovare un rifugio dalla solitudine e dall’alienazione. Un instant book\, allucinato e sarcastico\, del nostro tempo; un racconto di un’epopea\, intima e collettiva al tempo stesso\, che ha messo in discussione i rapporti umani e tutti gli assetti culturali e sociali della civiltà contemporanea\, estremizzandone le contraddizioni. Il romanzo della pandemia che ci ha fatto cantare l’inno nazionale dai balconi e che ci ha posto la sfida di trasformarci in donne e uomini migliori di prima. \n\n\n\nGiornalista e scrittore\, spezzino\, Marco Ursano ha pubblicato L’amore romantico non muore mai Coniglio Editore\, Roma\, 2005; L’estate di Galantini (Spezia 2-Genoa 0)\, Edizioni Cinque Terre\, La Spezia\, 2008; Giuseppe Di Vittorio alla Spezia\, edizioni Ediesse\, Roma\, 2010; Verso il deserto\, Cut Up Edizioni\, La Spezia-Roma\, 2011; Cronache dalla seconda guerra dell’acqua\, Cut Up Edizioni\, La Spezia-Roma\, 2014; Il mare capovolto MdS Editore\, Pisa\, 2016\, Edelweiss MdS Editore\, Pisa\, 2018; Anni collaterali MdS Editore\, Pisa\, 2018;  Anni collaterali MdS Editore\, Pisa\, 2020.. Nel 2007 è stato finalista del premio “Orme Gialle” di Pontedera\, presieduto da Carlo Lucarelli\, con il racconto Andata e ritorno; nel 2015 il suo racconto Franco Serantini è stato inserito nell’antologia Vituperio delle genti a cura di MdS Editore di Pisa. Il suo blog è www.indieblog.it \n\n\n\n\n\n\n\n \n\n\n\n\n\n\n\n\n\n\n\n\n\n\n\n\n\n\n\nlocandina-corretta-7-luglio-22-3Download\n\n\n\npieghevole-7-luglio-7-agosto-rassegna-di-editoria-indipendente-3-3Download
URL:https://pisa.libreriaerasmus.it/appuntamento/da-monologo-teatrale-a-romanzo-un-fiume-di-libri-in-piazza-cavallotti/
LOCATION:Libreria Erasmus\, Piazza Cavallotti Pisa\, Piazza Cavallotti 9\, Pisa\, 56126\, Italia
CATEGORIES:Presentazioni,UN FIUME DI LIBRI IN PIAZZA CAVALLOTTI 2022
ATTACH;FMTTYPE=image/jpeg:https://pisa.libreriaerasmus.it/wp-content/uploads/2022/06/LOCANDINA-12.7.22.jpg
ORGANIZER;CN="Libreria Erasmus":MAILTO:info@libreriaerasmus.it
END:VEVENT
BEGIN:VEVENT
DTSTART;TZID=UTC:20220710T211500
DTEND;TZID=UTC:20220710T231500
DTSTAMP:20260422T023937
CREATED:20220629T142304Z
LAST-MODIFIED:20220707T113409Z
UID:15238-1657487700-1657494900@pisa.libreriaerasmus.it
SUMMARY:Ciò che per un bruco è la fine del mondo\, per il resto del mondo è una farfalla - Un fiume di libri in piazza Cavallotti
DESCRIPTION:DOMENICA 10 LUGLIO ORE 21.15 PRESENTAZIONE – MARCHETTI EDITORE \n\n\n\nRiccardo Puccini\, Io conosco il finale (giugno 2022) \n\n\n\nL’editrice Elena Marchetti intervista l’autore Riccardo Puccini \n\n\n\nLetture dell’attore Astore Ricoveri \n\n\n\nInterventi musicali di Martina Catarsi (tastiera) \n\n\n\n\n\nIo conosco il finale. In una piovosa Inghilterra di cui quasi riusciamo a sentire i profumi\, e in una piccola isola della Svezia\, il romanzo procede insieme alla colonna sonora (una vera e propria playlist) che lo accompagna paragrafo dopo paragrafo. \n\n\n\nUna colonna sonora che scandisce il tempo di uomini e donne\, bambini e bambine\, sempre “poco allineati”. \n\n\n\nLa storia\, colma di mistero\, ci immerge tra le sensazioni\, le emozioni\, i traumi\, gli sguardi\, il detto e il celato\, da quattro punti di vista diversi sul mondo e sulla vita: quelli di personaggi molto distanti tra loro ma paradossalmente molto vicini. \n\n\n\nPagine disseminate di indizi ma senza averne l’aria\, in cui tutto è diverso da come sembra e\, soprattutto\, in cui non bisogna «mai dare per scontato il finale che ci siamo immaginati». \n\n\n\n«Non so come spiegartelo\, Andrea. A volte cerco le parole ma non so se sono quelle giuste». \n\n\n\n«Non importa\, provaci lo stesso. A volte le parole sono dispettose\, non si lasciano trovare. Ma noi non dobbiamo smettere di cercarle. Mai». \n\n\n\nRiccardo Puccini\, nato nel 1964\, si è laureato in Sociologia a Pisa\, presso la facoltà di Scienze Politiche. Appassionato da sempre di narrativa\, questo è il suo secondo romanzo. \n\n\n\n\n\n\n\n\n\n\n\n\n\n\n\n\n\nlocandina-corretta-7-luglio-22-2Download\n\n\n\npieghevole-7-luglio-7-agosto-rassegna-di-editoria-indipendente-3-2Download
URL:https://pisa.libreriaerasmus.it/appuntamento/cio-che-per-un-bruco-e-la-fine-del-mondo-per-il-resto-del-mondo-e-una-farfalla-un-fiume-di-libri-in-piazza-cavallotti/
LOCATION:Libreria Erasmus\, Piazza Cavallotti Pisa\, Piazza Cavallotti 9\, Pisa\, 56126\, Italia
CATEGORIES:Presentazioni,UN FIUME DI LIBRI IN PIAZZA CAVALLOTTI 2022
ATTACH;FMTTYPE=image/jpeg:https://pisa.libreriaerasmus.it/wp-content/uploads/2022/06/locandina-10.7.22.jpg
ORGANIZER;CN="Libreria Erasmus":MAILTO:info@libreriaerasmus.it
END:VEVENT
BEGIN:VEVENT
DTSTART;TZID=UTC:20220708T211500
DTEND;TZID=UTC:20220708T230000
DTSTAMP:20260422T023937
CREATED:20220627T132811Z
LAST-MODIFIED:20220706T190851Z
UID:15152-1657314900-1657321200@pisa.libreriaerasmus.it
SUMMARY:La poesia di Rita Pacilio - Un fiume di libri in piazza Cavallotti
DESCRIPTION:VENERDÌ 8 LUGLIO\, ORE 21.15 SERATA IN VERSI A CURA DI NADIA CHIAVERINIRita Pacilio\, Quasi madre (peQuod edizioni)Con l’autrice\, Nadia Chiaverini\, poetessa e Cristiana Vettori\, scrittrice \n\n\n\nQuasi madre. C’è una madre da raccontare per poterne sopportare la distanza\, una madre resa dalla malattia quasi vuota d’amore\, quasi madre. Questa poesia ci commuove proprio perché fa di tutto per non commuoverci\, perché è solo nuda testimonianza delle visite alla madre ricoverata e dei pensieri\, spesso duri e amarissimi\, che questi incontri suscitano. Il lettore è li ogni volta\, in silenzio accanto alla figlia\, disarmato come lei davanti a una penitenza assidua e doverosa.(Antonio Fiori) \n\n\n\nRita Pacilio nata a Benevento nel 1963\, è poeta\, scrittrice\, collaboratrice editoriale\, sociologa\,mediatrice familiare\, si occupa di poesia\, di critica letteraria\, di metateatro\, di letteratura perl’infanzia e di vocal jazz. Curatrice di lavori antologici\, editing\, lettura/valutazione testi poetici ebrevi saggi\, dirige per La Vita Felice la sezione “Opera prima”. Direttrice del marchioEditoriale RPlibri è presidente dell’Associazione Arte e Saperi. Ha ideato e coordina il Festivaldella Poesia nella Cortesia di San Giorgio del Sannio. Sue recenti pubblicazioni di poesia: Gliimperfetti sono gente bizzarra (La Vita Felice\, 2012 – vincitore di numerosi Premi\, tra cui“Laurentum 2013”\, tradotto in francese Les imparfaits sont des gens bizarres\, L’Harmattan\, 2016\,traduzione di Giovanni Dotoli e Françoise Lenoir; traduzione in lingua araba\, Uet Tunisi\,traduzione di Othman Ben Taleb); Quel grido raggrumato (La Vita Felice\, 2014); Il suono perobbedienza – poesie sul jazz (Marco Saya Edizioni\, 2015); Prima di andare (La Vita Felice\, 2016).Per la narrativa: Non camminare scalzo (Edilet Edilazio Letteraria\, 2011). La principessa con ibaffi (Scuderi Edizioni\, 2015) è la sua fiaba per bambini; Cantami una filastrocca è un quadernooperativo per la Scuola dell’Infanzia (RPlibri\, 2018). È stata tradotta in greco\, romeno\, francese\,arabo\, inglese\, spagnolo\, catalano\, napoletano. A marzo 2018 la pubblicazione dei racconti in prosapoetica: L’amore casomai. \n\n\n\n \n\n\n\n\n\nlocandina-luglio-culturale-pisano-22Download\n\n\n\n\n\n\n\n\n\n\n\n\n\n\n\nlocandina-corretta-7-luglio-22-1Download\n\n\n\npieghevole-7-luglio-7-agosto-rassegna-di-editoria-indipendente-3-1Download
URL:https://pisa.libreriaerasmus.it/appuntamento/serata-in-versi-a-cura-di-n-chiaverini-la-poesia-di-rita-pacilio/
LOCATION:Libreria Erasmus\, Piazza Cavallotti Pisa\, Piazza Cavallotti 9\, Pisa\, 56126\, Italia
CATEGORIES:Presentazioni,UN FIUME DI LIBRI IN PIAZZA CAVALLOTTI 2022
ATTACH;FMTTYPE=image/jpeg:https://pisa.libreriaerasmus.it/wp-content/uploads/2022/06/locandina-rsassegna-poesia.jpg
END:VEVENT
BEGIN:VEVENT
DTSTART;TZID=UTC:20220707T211500
DTEND;TZID=UTC:20220707T230000
DTSTAMP:20260422T023937
CREATED:20220627T131245Z
LAST-MODIFIED:20220707T112419Z
UID:15144-1657228500-1657234800@pisa.libreriaerasmus.it
SUMMARY:Donne che scrivono di donne - Un fiume di libri in piazza Cavallotti
DESCRIPTION:GIOVEDI’ 7 LUGLIO\, ORE 21.15\n\n\n\nPRESENTAZIONE – DREAMBOOK EDIZIONI \n\n\n\nLa magia nelle parole di Emilia Bigiani (maggio 2022)  \n\n\n\nLa casa di pietra di Donella Bacci \n\n\n\nIntervengono  Emilia Bigiani\, autrice \n\n\n\nDonella Bacci\, autrice  \n\n\n\nStefano Mecenate\, editore \n\n\n\nLa magia nelle parole. Da sempre il “fantastico” è un universo parallelo al reale che funge da luogo dove il reale si specchia per ricoprire e riscoprirsi. Ben lo sa la nostra autrice che ad esso rivolge le sue attenzioni per “raccontare” ciò che la memoria ha perso in una progressiva e inarrestabile deriva. Deriva che l’ha portata lontano dalle sue radici per condurla in un alienante eterno presente dove tutto vive e si esaurisce nell’attimo che si sta vivendo. \n\n\n\nLa casa di pietra. Spesso nella vita è necessario procedere a ritroso nei ricordi per dare un nuovo significato al proprio esistere e questo cammino sui sentieri più antichi dell’anima è difficile: sono sentieri sdrucciolevoli\, è facile scivolare e farsi male o lasciarsi prendere dallo sconforto e sentirsi tentati di abbandonare l’impresa. Ma alla fine\, quando si raggiunge la meta\, tutto si ammanta di una luce diversa e assume diverse significazioni.Così fa l’autrice in questo percorso: riscopre la sua identità più profonda ri-trovando le sue radici ancorate alle pietre di una casa persa nei boschi\, a un prato e a una donna essenziale delle montagne dalla quale hanno avuto origine le donne legate alla sua vita. Poco alla volta conosceremo Maria Ventura\, una donna forte\, indipendente e saggia che ha trasmesso\, per linea di sangue femminile\, una forte consapevolezza del sé a tutte le donne di quella stirpe e una generosità indispensabile alla sopravvivenza di quanti vissero tempi difficili in luoghi altrettanto difficili. \n\n\n\n\nLa magia nelle parole\n\n\n\n\n\n\n\n\n\n\n\n\n\n\n\n\n\n\nlocandina-corretta-7-luglio-22Do                                                                                                                                                                                           wnload\n\n\n\npieghevole-7-luglio-7-agosto-rassegna-di-editoria-indipendente-3Download
URL:https://pisa.libreriaerasmus.it/appuntamento/donne-che-scrivono-di-donne/
LOCATION:Libreria Erasmus\, Piazza Cavallotti Pisa\, Piazza Cavallotti 9\, Pisa\, 56126\, Italia
CATEGORIES:Presentazioni,UN FIUME DI LIBRI IN PIAZZA CAVALLOTTI 2022
ATTACH;FMTTYPE=image/jpeg:https://pisa.libreriaerasmus.it/wp-content/uploads/2022/06/locandina7.7.22.jpg
END:VEVENT
BEGIN:VEVENT
DTSTART;TZID=UTC:20220702T190000
DTEND;TZID=UTC:20220702T210000
DTSTAMP:20260422T023937
CREATED:20220627T142926Z
LAST-MODIFIED:20220629T135443Z
UID:15182-1656788400-1656795600@pisa.libreriaerasmus.it
SUMMARY:Anna Vera Viva  - Marenia 2022 Dialoghi d'autore
DESCRIPTION:Questioni di sangue. Una indagine nel cuore segreto di Napoli\n\n\n\nGarzanti editore\n\n\n\nDialoga con l'autrice lo scrittore pisano Andrea Falchi\n\n\n\nIl rione Sanità è un’isola. Un lungo ponte lo divide dal resto di Napoli. Qui\, i vivi e i defunti convivono da secoli e non vi è posto\, più di questo\, in cui morte e vita siano così strettamente intrecciate. Ed è qui che\, dopo quarant’anni\, due fratelli si rincontrano. Raffaele\, dato in adozione giovanissimo alla morte della madre\, ci torna come parroco della basilica di Santa Maria alla Sanità. Peppino\, invece\, è il boss del quartiere. Due uomini che non potrebbero essere più diversi l’uno dall’altro. Eppure\, il richiamo del sangue\, ineludibile\, li unisce. Un legame che è fonte di pericolo e tormento per entrambi. Quando la morte colpisce e un cadavere viene ritrovato in un appartamento del rione\, le indagini\, suffragate da un testimone poco affidabile\, seguono un unico binario. Quell’omicidio fa tirare un sospiro di sollievo a tante persone\, ma Raffaele non si lascia abbindolare. Decide di rivolgere il suo sguardo\, esperto della vita\, proprio tra la sua gente\, anche se questo significa guardare qualcuno di molto\, forse troppo\, vicino a lui. Ma Raffaele non si è mai fermato davanti a nulla e non inizierà adesso. Sa bene che le sue indagini possono compromettere un equilibrio basato su regole non scritte e allo stesso tempo inderogabili\, ma deve andare avanti. Perché la Sanità è un’isola e per navigare il mare che la circonda ci vogliono coraggio\, passione e un concetto diverso di verità. Nel suo romanzo\, Anna Vera Viva ci guida in uno dei rioni più affascinanti del nostro paese. E\, attraverso la potenza del sangue\, ci fa conoscere l’animo umano e le sue contraddizioni. Dopo aver letto questo libro\, l’eterno scontro tra bene e male avrà un sapore nuovo.
URL:https://pisa.libreriaerasmus.it/appuntamento/anna-vera-viva/
LOCATION:Tirrenia\, PARCO DI CICLILANDIA\, Tirrenia
CATEGORIES:Presentazioni
ATTACH;FMTTYPE=image/png:https://pisa.libreriaerasmus.it/wp-content/uploads/2022/06/01.png
END:VEVENT
BEGIN:VEVENT
DTSTART;TZID=UTC:20220609T183000
DTEND;TZID=UTC:20220609T193000
DTSTAMP:20260422T023937
CREATED:20220627T141007Z
LAST-MODIFIED:20220627T141040Z
UID:15162-1654799400-1654803000@pisa.libreriaerasmus.it
SUMMARY:Editing e correzione di bozza
DESCRIPTION:La prima lezione del corso di scrittura “Editing e correzione di bozza”: Giovedì 9 Giugno alle ore18\,30
URL:https://pisa.libreriaerasmus.it/appuntamento/editing-e-correzione-di-bozza/
CATEGORIES:Corsi
ATTACH;FMTTYPE=image/jpeg:https://pisa.libreriaerasmus.it/wp-content/uploads/2022/05/corso-9-giugno-per-stampa-scaled.jpg
END:VEVENT
END:VCALENDAR