BEGIN:VCALENDAR
VERSION:2.0
PRODID:-//Libreria Erasmus Pisa - ECPv6.15.17.1//NONSGML v1.0//EN
CALSCALE:GREGORIAN
METHOD:PUBLISH
X-WR-CALNAME:Libreria Erasmus Pisa
X-ORIGINAL-URL:https://pisa.libreriaerasmus.it
X-WR-CALDESC:Eventi per Libreria Erasmus Pisa
REFRESH-INTERVAL;VALUE=DURATION:PT1H
X-Robots-Tag:noindex
X-PUBLISHED-TTL:PT1H
BEGIN:VTIMEZONE
TZID:UTC
BEGIN:STANDARD
TZOFFSETFROM:+0000
TZOFFSETTO:+0000
TZNAME:UTC
DTSTART:20220101T000000
END:STANDARD
END:VTIMEZONE
BEGIN:VEVENT
DTSTART;TZID=UTC:20230210T080000
DTEND;TZID=UTC:20230210T170000
DTSTAMP:20260424T090808
CREATED:20230210T121640Z
LAST-MODIFIED:20230210T121641Z
UID:15612-1676016000-1676048400@pisa.libreriaerasmus.it
SUMMARY:Presentazione del romanzo poliziesco "Il mistero della torre" di Domenico Maselli
DESCRIPTION:Interverranno oltre all’autore (già Sostituto Commissario Coordinatore della Polizia di Stato)\,Enrico Parrini (già vice Questore di Forte dei Marmi)\,Fabio Gimignani\, editore della Casa Editrice Jolly Roger. \n\n\n\nTrama: un cadavere viene scoperto la vigilia di Natale ai piedi della Torre\, in Piazza dei Miracoli. Si tratta di un docente della Facoltà di Scienze Politiche dell’Università di Pisa\, assassinato la notte precedente. L’indagine viene affidata all’ispettore Andrea Carli\, poliziotto modello\, che non gode di molta considerazione e stima nell’ambito della Procura pisana per vecchie ruggini investigative\, ma dalla sua parte ha una profonda umanità che lo porta a vivere tra la gente sentendosi elemento basilare di una società ancora sana. Un’indagine difficile che stenta a decollare\, ma Carli saprà districarsi con determinazione fino al sorprendente epilogo. \n\n\n\nL’autore del romanzo Domenico Maselli ha prestato servizio per quarant’anni nella Polizia di Stato\, prima a Pisa\, poi a Pistoia e per finire al Commissariato di Pubblica Sicurezza di Pescia\, con la qualifica di Sostituto Commissario Coordinatore. Pisa però gli è rimasta nel cuore ed è stata la fonte di ispirazione di questa sua prima esperienza letteraria nata alla fine del 2020\, durante la seconda ondata del Covid-19 che ci ha relegato tra le nostre mura domestiche\, lontano dalla socialità a cui eravamo abituati. “Personalmente – afferma Maselli – si è trattato di un’esperienza di “scrittura-terapia” che ha aiutato a spronare e a superare quel periodo incerto e buio”.
URL:https://pisa.libreriaerasmus.it/appuntamento/presentazione-del-romanzo-poliziesco-il-mistero-della-torre-di-domenico-maselli/
LOCATION:Libreria Erasmus\, Piazza Cavallotti Pisa\, Piazza Cavallotti 9\, Pisa\, 56126\, Italia
ATTACH;FMTTYPE=image/png:https://pisa.libreriaerasmus.it/wp-content/uploads/2023/02/11.03locandina-Il-mistero-della-torre.png
ORGANIZER;CN="Libreria Erasmus":MAILTO:info@libreriaerasmus.it
END:VEVENT
BEGIN:VEVENT
DTSTART;TZID=UTC:20230212T173000
DTEND;TZID=UTC:20230212T190000
DTSTAMP:20260424T090808
CREATED:20230210T143500Z
LAST-MODIFIED:20230210T143502Z
UID:15615-1676223000-1676228400@pisa.libreriaerasmus.it
SUMMARY:Presentazione del libro di poesie "Il posto delle parole" di Veronica Manghesi
DESCRIPTION:L’autrice dialogherà con Fabio della Tommasina\, curatore della collana editoriale. \n\n\n\nTerza silloge di poesie di Veronica Manghesi\, “Il posto delle parole”\, pubblicata da MdS Editore\, con il Patrocinio del Comune di Pisa.  \n\n\n\nPoetessa pisana\, già vincitrice della sezione di poesia del Concorso “Seduzione” 2021 di MdS Editore\, Veronica Manghesi ha al suo attivo molti riconoscimenti nazionali di prestigio ed è una figura consolidata e autentica nel panorama letterario cittadino. Si presenta con questa terza raccolta dopo una maturazione costante nel linguaggio e nei temi del suo verso poetico. In particolare\, l’autrice affronta la complessa questione della scrittura poetica\, tentando di dare un posto coerente e corretto alle parole. In un’epoca sempre più veloce e superficiale\, affollata di immagini\, che spesso non siamo neppure in grado di decodificare\, sacrificando la cura del linguaggio\, c’è la necessità di riappropriarsi del senso della parola\, della sua origine intima\, legata al cuore\, all’anima\, allo stomaco\, coacervo delle emozioni più carnali e antiche. Tutto nasce dal sé\, e tutto sfocia fuori da sé\, in un abbraccio di sensazioni e visioni espresse in versi. Fondamentale\, nelle poesie di Manghesi\, il rispetto della struttura sintattica e semantica\, propria di ogni composizione poetica\, in una restituzione armonica e prosodica di riflessioni intime. La prefazione è stata curata dalla Prof.ssa Marina Pratici\, critica letteraria di fama internazionale\, ed il testo è stato selezionato per essere presentato in diretta televisiva Rai a Casa Sanremo Writers\, l’11 febbraio 2023. 
URL:https://pisa.libreriaerasmus.it/appuntamento/presentazione-del-libro-di-poesie-il-posto-delle-parole-di-veronica-manghesi/
LOCATION:Libreria Erasmus\, Piazza Cavallotti Pisa\, Piazza Cavallotti 9\, Pisa\, 56126\, Italia
ATTACH;FMTTYPE=image/png:https://pisa.libreriaerasmus.it/wp-content/uploads/2023/02/fb-il-posto-delle-parole-erasmus_orizzontale.png
ORGANIZER;CN="Libreria Erasmus":MAILTO:info@libreriaerasmus.it
END:VEVENT
BEGIN:VEVENT
DTSTART;TZID=UTC:20230225T173000
DTEND;TZID=UTC:20230225T190000
DTSTAMP:20260424T090808
CREATED:20230223T160749Z
LAST-MODIFIED:20230223T160944Z
UID:15619-1677346200-1677351600@pisa.libreriaerasmus.it
SUMMARY:Presentazione del libro "Il lavoro in carcere e fuori. Esperienze dei detenuti nel carcere e fuori"
DESCRIPTION:Interverranno:Alfonso Maurizio Iacono\, filosofo e docente ordinario di Storia della Filosofia presso l’Università di Pisa\, \n\n\n\nFrancesco Galluzzi\, presidente della cooperativa sociale Collecoop che si occupa di integrazione e inclusione lavorativa\, \n\n\n\nPaola Prita Grassi\, insegnante del laboratorio di scrittura creativa del carcere di Gorgona\, \n\n\n\nAlessia Villa\, educatrice del carcere\, \n\n\n\nGiovanni De Peppo\, ex garante dei diritti dei detenuti. \n\n\n\n“Le pene non possono consistere in trattamenti contrari al senso di umanità e devono tendere alla rieducazione del condannato” Così recita il terzo comma dell’articolo 27 della nostra Costituzione. La pena non deve essere solo punitiva ma finalizzata a un percorso di riabilitazione e inclusione sociale. Per i detenuti un un’attività lavorativa\, dentro e fuori dalle mura delle carceri\, garantisce dignità al detenuto\, diventa una forma di riscatto personale e facilita il suo reinserimento in società. A raccogliere i racconti sulle esperienze di lavoro dei detenuti nel carcere di Gorgona e oltre è il nuovo libro edito da Carmignani editrice “Il lavoro in carcere e fuori”. \n\n\n\n“Si potrebbe scrivere – afferma Maria Grazia Giampiccolo\, direttrice del carcere di Gorgona – un’infinità di argomentazioni sulla valenza del lavoro penitenziario in termini di restituzione della dignità alle persone\, di possibilità per il singolo di riappropriarsi di un ruolo\, di identità e di sostegno all’interno della famiglia e di realizzazione di importanti premesse per un futuro reinserimento nella società e nel mondo del lavoro”. Ciò che rende unica la straordinarietà del lavoro a Gorgona “è il restituire bellezza e creatività alla dimensione lavorativa. Lavorare all’aperto\, a contatto con i colori\, gli spazi dell’isola\, accudire gli amici animali con la consapevolezza che li si accompagnerà per tutto il ciclo vitale\, curare gli orti\, sono possibilità che portano ad amare il lavoro\, esserne orgogliosi\, sentirsi parte di un contesto straordinario di cui si contribuisce alla bellezza e alla conservazione”. \n\n\n\nOltre a quella di Maria Grazia Giampiccolo le note introduttive alla pubblicazione sono di Alfonso Maurizio Iacono\, Francesco Galluzzi\, Giovanni De Peppo\, Paola Prita Grassi. \n\n\n\n“Il lavoro nobilita l’uomo. Nel caso delle persone private di libertà – sottolinea Giovanni De Peppo – questo proverbio assume un valore tangibile. Collecoop ha consentito a un ampio numero di persone “ristrette” di poter fruire\, negli ultimi anni della detenzione\, dell’opportunità di un lavoro che\, a tutti gli effetti\, consente di realizzare quel faticoso processo di inclusione sociale per chi ha vissuto svariati anni in carcere”. \n\n\n\nI racconti sono di Marco\, Domenico\, Daniele Durante\, Singh Kulbir\, Daniele Bergero\, Luigi Langella\, Arabi Salah\, Muhammad Amir\, Valerio\, Arthur\, Emilio\, Armando\, Tip. \n\n\n\n“Dai racconti dei detenuti – afferma Alfonso Maurizio Iacono – traspare in modo forte il rapporto tra lavoro e passione. Comunque la si voglia mettere\, il lavoro dà un senso alla vita e ciò vale per tutte le donne e tutti gli uomini. […] Può sembrare paradossale\, ma qui in Gorgona\, negli scritti dei detenuti\, il senso di libertà nel e con il lavoro si oppone\, pur convivendoci\, al senso didetenzione in cui stanno i carcerati”
URL:https://pisa.libreriaerasmus.it/appuntamento/presentazione-del-libro-il-lavoro-in-carcere-e-fuori-esperienze-di-detenuti-nel-carcere-e-fuori/
END:VEVENT
END:VCALENDAR