BEGIN:VCALENDAR
VERSION:2.0
PRODID:-//Libreria Erasmus Pisa - ECPv6.15.17.1//NONSGML v1.0//EN
CALSCALE:GREGORIAN
METHOD:PUBLISH
X-ORIGINAL-URL:https://pisa.libreriaerasmus.it
X-WR-CALDESC:Eventi per Libreria Erasmus Pisa
REFRESH-INTERVAL;VALUE=DURATION:PT1H
X-Robots-Tag:noindex
X-PUBLISHED-TTL:PT1H
BEGIN:VTIMEZONE
TZID:UTC
BEGIN:STANDARD
TZOFFSETFROM:+0000
TZOFFSETTO:+0000
TZNAME:UTC
DTSTART:20220101T000000
END:STANDARD
END:VTIMEZONE
BEGIN:VEVENT
DTSTART;TZID=UTC:20231020T173000
DTEND;TZID=UTC:20231020T193000
DTSTAMP:20260423T133639
CREATED:20231017T192953Z
LAST-MODIFIED:20231017T192953Z
UID:15828-1697823000-1697830200@pisa.libreriaerasmus.it
SUMMARY:Incontro “La Storia e le storie nel nuovo romanzo di Tonino Giulietti”
DESCRIPTION:Michele Battini\, docente di Storia Moderna e Storia della Politica all’Università di Pisa\, condurrà la discussione con Tonino Giulietti\, autore del romanzo “Ho preso il treno” e a Claudio Traino\, direttore della Fisica Sanitaria dell’Azienda Ospedaliero-Universitaria di Pisa. All’evento collabora la Libreria Erasmus.
URL:https://pisa.libreriaerasmus.it/appuntamento/incontro-la-storia-e-le-storie-nel-nuovo-romanzo-di-tonino-giulietti/
LOCATION:Stazione Leopolda\, Piazza Guerrazzi\, 11\, Pisa\, Italia
CATEGORIES:Presentazioni
ATTACH;FMTTYPE=image/jpeg:https://pisa.libreriaerasmus.it/wp-content/uploads/2023/10/locandina-Giulietti-scaled.jpg
END:VEVENT
END:VCALENDAR