BEGIN:VCALENDAR
VERSION:2.0
PRODID:-//Libreria Erasmus Pisa - ECPv6.15.17.1//NONSGML v1.0//EN
CALSCALE:GREGORIAN
METHOD:PUBLISH
X-WR-CALNAME:Libreria Erasmus Pisa
X-ORIGINAL-URL:https://pisa.libreriaerasmus.it
X-WR-CALDESC:Eventi per Libreria Erasmus Pisa
REFRESH-INTERVAL;VALUE=DURATION:PT1H
X-Robots-Tag:noindex
X-PUBLISHED-TTL:PT1H
BEGIN:VTIMEZONE
TZID:UTC
BEGIN:STANDARD
TZOFFSETFROM:+0000
TZOFFSETTO:+0000
TZNAME:UTC
DTSTART:20230101T000000
END:STANDARD
END:VTIMEZONE
BEGIN:VEVENT
DTSTART;TZID=UTC:20240412T173000
DTEND;TZID=UTC:20240412T190000
DTSTAMP:20260422T194340
CREATED:20240410T190808Z
LAST-MODIFIED:20240410T190926Z
UID:16155-1712943000-1712948400@pisa.libreriaerasmus.it
SUMMARY:Presentazione del Libro "Sepolcri imbiancati" di Beatrice Hastings (Terra d'ulivi edizioni)
DESCRIPTION:Dialogo tra Nadia Chiaverini\, poetessa\, e MariStella Diotiauti\, curatrice del romanzo \n\n\n\nBeatrice Hastings (Londra 1879\, Worthing 1943)\, conosciuta in Italia per essere stata una delle amanti di Amedeo Modigliani\, in realtà\, era una editrice\, giornalista\, scrittrice e poetessa inglese i cui scritti femministi e politici\, pubblicati in periodici dell’epoca\, esprimevano\, con uno stile considerato allora graffiante e provocatorio\, posizioni e tematiche particolarmente radicali per la sua epoca ma ancora fortemente attuali. \n\n\n\n“Sepolcri imbiancati” fu il primo romanzo di Beatrice Hastings\, pubblicato per la prima volta in otto capitoli a puntate nel 1909 sul giornale inglese d’avanguardia “The new age”\, finora reperibile in italiano solo all’interno di altre raccolte ma mai in versione autonoma\, può considerarsi un romanzo di formazione al femminile. E’ la storia di una giovane ingenua e sognante che sperimenterà le ipocrisie e la ferocia della società inglese di inizio Novecento dove\, in materia di matrimonio\, sessualità e maternità\, era negata alla donna qualsiasi spazio di autodeterminazione e di libera affermazione della propria identità.
URL:https://pisa.libreriaerasmus.it/appuntamento/presentazione-del-libro-sepolcri-imbiancati-di-beatrice-hastings-terra-dulivi-edizioni/
CATEGORIES:Presentazioni
ATTACH;FMTTYPE=image/jpeg:https://pisa.libreriaerasmus.it/wp-content/uploads/2024/04/unnamed.jpg
END:VEVENT
END:VCALENDAR