BEGIN:VCALENDAR
VERSION:2.0
PRODID:-//Libreria Erasmus Pisa - ECPv6.15.17.1//NONSGML v1.0//EN
CALSCALE:GREGORIAN
METHOD:PUBLISH
X-WR-CALNAME:Libreria Erasmus Pisa
X-ORIGINAL-URL:https://pisa.libreriaerasmus.it
X-WR-CALDESC:Eventi per Libreria Erasmus Pisa
REFRESH-INTERVAL;VALUE=DURATION:PT1H
X-Robots-Tag:noindex
X-PUBLISHED-TTL:PT1H
BEGIN:VTIMEZONE
TZID:UTC
BEGIN:STANDARD
TZOFFSETFROM:+0000
TZOFFSETTO:+0000
TZNAME:UTC
DTSTART:20230101T000000
END:STANDARD
END:VTIMEZONE
BEGIN:VEVENT
DTSTART;TZID=UTC:20240601T180000
DTEND;TZID=UTC:20240601T193000
DTSTAMP:20260422T140844
CREATED:20240530T155643Z
LAST-MODIFIED:20240530T155650Z
UID:18410-1717264800-1717270200@pisa.libreriaerasmus.it
SUMMARY:Presentazione ultimi 2 libri di poesia di Piero Panattoni "Apparizioni" (edizioni Helicon 2022) e "Il gusto di campare" (edizioni Helicon 2024)
DESCRIPTION:La voce della poesia di Piero Panattoni sarà al centro della presentazione All’evento che farà riferimento agli ultimi due libri di Panattoni\, “Apparizioni” (edizioni Helicon 2022) e “Il gusto di campare” (edizioni Helicon 2024) interverrà oltre all’autore anche Cristiana Vettori.Nelle liriche di Piero Panattoni il dominio del familiare e del privato non esclude i richiami a vicende storiche. Il tema della vecchiaia\, del tempo che passa\, induce ad approdi e a bilanci tuttavia l’utilizzo sistematico dell’ironia alleggerisce il peso dei contenuti senza sminuirli.Il sentimento centrale e dominante delle poesie di Panattoni è però l’amore\, dichiarato in tutta la sua ampiezza\, per una donna\, per le figlie\, per i nipoti\, per gli amici e per tutte le buone cose che ci accompagnano nella vita quotidiana.
URL:https://pisa.libreriaerasmus.it/appuntamento/presentazione-ultimi-2-libri-di-poesia-di-piero-panattoni-apparizioni-edizioni-helicon-2022-e-il-gusto-di-campare-edizioni-helicon-2024/
CATEGORIES:Presentazioni
ATTACH;FMTTYPE=image/jpeg:https://pisa.libreriaerasmus.it/wp-content/uploads/2024/05/PRESENTAZIONE-PANATTONI.jpg
ORGANIZER;CN="Libreria Erasmus":MAILTO:info@libreriaerasmus.it
END:VEVENT
BEGIN:VEVENT
DTSTART;TZID=UTC:20240630T210000
DTEND;TZID=UTC:20240630T230000
DTSTAMP:20260422T140844
CREATED:20240625T192518Z
LAST-MODIFIED:20240629T160927Z
UID:19186-1719781200-1719788400@pisa.libreriaerasmus.it
SUMMARY:Incontro con Ilaria Sbrana coautrice del libro “A piccoli passi per Pisa. Guida ai personaggi illustri della città” della Scuola di Lingua e Cultura italiana della Comunità di Sant’Egidio (novembre 2023\, Carmignani editrice)
DESCRIPTION:Interverrà Micol Carmignani\, editriceSaranno intervistati insegnanti e studenti coautori del libro \n\n\n\n\n\n \n\n\n\nSinossi. Dieci interviste a personaggi illustri del passato. Nel corso di lezioni all’aperto\, insegnanti e studenti della comunità di Sant’Egidio\, sono andati alla ricerca delle targhe che ricordano letterati\, scienziati\, politici e filosofi nati ovissuti a Pisa. Un libro che è una guida sui generis: una città e la sua storia diventano occasione d’incontroe ponte tra culture distanti nello spazio e nel tempo\, ponendole in dialogo tra loro\, unite dallaricerca di un nuovo modo di vivere. \n\n\n\nhttps://www.lanazione.it/pisa/cronaca/a-piccoli-passi-per-pisa-apre-la-rassegna-un-fiume-di-libri-in-piazza-cavallotti-w631osg8 \n\n\n\n \n\n\n\n \n\n\n\n \n\n\n\n \n\n\n\nhttps://www.lanazione.it/pisa/cronaca/torna-un-fiume-di-libri-in-piazza-cavallotti-800b4b5e \n\n\n\n\nLa quarta edizione di “Un fiume di libri in Piazza Cavallotti”\nhttps://pisanews.net/la-quarta-edizione-di-un-fiume-di-libri-in-piazza-cavallotti/
URL:https://pisa.libreriaerasmus.it/appuntamento/incontro-con-ilaria-sbrana-coautrice-del-libro-a-piccoli-passi-per-pisa-guida-ai-personaggi-illustri-della-citta-della-scuola-di-lingua-e-cultura-italiana-della-comunita-di-sant/
LOCATION:piazza Cavallotti
CATEGORIES:UN FIUME DI LIBRI IN PIAZZA CAVALLOTTI 2024
ATTACH;FMTTYPE=image/jpeg:https://pisa.libreriaerasmus.it/wp-content/uploads/2024/06/locandina-30-giugno-carmignani.jpg
END:VEVENT
END:VCALENDAR