BEGIN:VCALENDAR
VERSION:2.0
PRODID:-//Libreria Erasmus Pisa - ECPv6.15.17.1//NONSGML v1.0//EN
CALSCALE:GREGORIAN
METHOD:PUBLISH
X-WR-CALNAME:Libreria Erasmus Pisa
X-ORIGINAL-URL:https://pisa.libreriaerasmus.it
X-WR-CALDESC:Eventi per Libreria Erasmus Pisa
REFRESH-INTERVAL;VALUE=DURATION:PT1H
X-Robots-Tag:noindex
X-PUBLISHED-TTL:PT1H
BEGIN:VTIMEZONE
TZID:UTC
BEGIN:STANDARD
TZOFFSETFROM:+0000
TZOFFSETTO:+0000
TZNAME:UTC
DTSTART:20230101T000000
END:STANDARD
END:VTIMEZONE
BEGIN:VEVENT
DTSTART;TZID=UTC:20241026T173000
DTEND;TZID=UTC:20241026T190000
DTSTAMP:20260422T071405
CREATED:20241024T193028Z
LAST-MODIFIED:20241024T193031Z
UID:23150-1729963800-1729969200@pisa.libreriaerasmus.it
SUMMARY:Presentazione del libro "Eco e Narciso una storia diversa" di Angela Giacovelli
DESCRIPTION:Presentazione del nuovo libro “Eco e Narciso una storia diversa” di Angela Giacovelli (Edizione Helicon)  \n\n\n\nIntervengono  \n\n\n\nCristiana Vettori\, scrittrice e psicologa  \n\n\n\nAngela Giacovelli\, autrice\, psicologa e specialista in vittimologia \n\n\n\nL’autrice traccia il percorso di un personaggio fondato sulla sua fantasia\, Laura\, una ragazza come tante che\, dopo essere caduta nella trappola dell’idealizzazione amorosa per mano di un narcisista ed essere stata da lui improvvisamente abbandonata\, è costretta a risvegliarsi e a riprendere in mano la propria vita. Nella prima fase si troverà impreparata e del tutto incredula\, al punto di mettere in dubbio sé stessa\, nonostante l’inverosimilità degli eventi vissuti. Solo dopo essere riuscita a guardare in faccia le sue fragilità e le sue ferite\, affrancandosi dall’idea di doversi giustificare per quanto accaduto\, riuscirà a riprendere in mano la propria vita e a scegliere di amarsi ancor prima di amare.A conclusione della storia narrata\, seguono alcuni capitoli di approfondimento sulla dinamica relazionale con il narcisista perverso.
URL:https://pisa.libreriaerasmus.it/appuntamento/presentazione-del-libro-eco-e-narciso-una-storia-diversa-di-angela-giacovelli/
CATEGORIES:Presentazioni
ATTACH;FMTTYPE=image/jpeg:https://pisa.libreriaerasmus.it/wp-content/uploads/2024/10/Locanfina-Eco-e-Narciso.jpg
ORGANIZER;CN="Libreria Erasmus":MAILTO:info@libreriaerasmus.it
END:VEVENT
END:VCALENDAR