BEGIN:VCALENDAR
VERSION:2.0
PRODID:-//Libreria Erasmus Pisa - ECPv6.15.17.1//NONSGML v1.0//EN
CALSCALE:GREGORIAN
METHOD:PUBLISH
X-WR-CALNAME:Libreria Erasmus Pisa
X-ORIGINAL-URL:https://pisa.libreriaerasmus.it
X-WR-CALDESC:Eventi per Libreria Erasmus Pisa
REFRESH-INTERVAL;VALUE=DURATION:PT1H
X-Robots-Tag:noindex
X-PUBLISHED-TTL:PT1H
BEGIN:VTIMEZONE
TZID:UTC
BEGIN:STANDARD
TZOFFSETFROM:+0000
TZOFFSETTO:+0000
TZNAME:UTC
DTSTART:20240101T000000
END:STANDARD
END:VTIMEZONE
BEGIN:VEVENT
DTSTART;VALUE=DATE:20251112
DTEND;VALUE=DATE:20251113
DTSTAMP:20260421T143426
CREATED:20251108T191001Z
LAST-MODIFIED:20251108T191953Z
UID:31483-1762905600-1762991999@pisa.libreriaerasmus.it
SUMMARY:Presentazione del libro "La luna al suo comando" (Castelvecchi edizione) di Lorella Beretta
DESCRIPTION:Mercoledì 12 novembre alle ore 17.30 avrà luogo la presentazione del libro “La luna al suo comando” (Castelvecchi edizione) di Lorella Beretta. \nDialogheranno con Lorella Beretta\, giornalista e autrice del libro\, Stefano Gallo\, storico Cnr (Biblioteca Franco Serantini)\, Lorenzo Garzella\, regista e autore crossmediale (Acquario della Memoria).\nLetture a cura di Giulia Solano\, regista e formatrice teatrale (VivaVoce Aps). \nIl libro\, arricchito da una prefazione di Liliana Segre (il marito\, Alfredo Belli\, fu Internato Militare)\, racconta la storia della Resistenza senza armi dei 650.000 Internati Militari Italiani (IMI) attraverso la storia di uno di loro\, Felice Magliano\, nato del Cilento nel 1913.\nNel 2021\, quando aveva 108 anni\, ne ha parlato con Lorella Beretta. L’internamento dei soldati italiani avvenne dopo l’Armistizio dell’8 settembre 1943 quando si rifiutarono di combattere con Hitler e di aderire alla Repubblica sociale di Mussolini.\nPer questo diventarono prigionieri e anzi acerrimi nemici di Hitler che inventò per loro la definizione di internati militari per spogliarli di tutti i diritti\, sottraendoli alla Convenzione di Ginevra e al controllo della Croce Rossa Internazionale.\nIl 20 settembre 2025 è stata celebrata la prima “Giornata degli internati italiani nei campi di concentramento tedeschi durante la seconda Guerra mondiale”\, istituita a inizio anno dal Parlamento italiano con voto unanime. Tra i 650.000 Internati Militari Italiani vi furono anche gli scrittori Giovanni Guareschi e Mario Rigoni Stern\, l’attore di teatro Gianrico Tedeschi\, i poeti Roberto Rebora e Tonino Guerra\, Giuseppe Lazzati\, poi Rettore dell’Università Cattolica di Milano e ora beato\, Alessandro Natta\, segretario del PCI dal 1984 al 1988.
URL:https://pisa.libreriaerasmus.it/appuntamento/presentazione-del-libro-la-luna-al-suo-comando-castelvecchi-edizione-di-lorella-beretta/
END:VEVENT
BEGIN:VEVENT
DTSTART;TZID=UTC:20251115T173000
DTEND;TZID=UTC:20251115T190000
DTSTAMP:20260421T143426
CREATED:20251113T150741Z
LAST-MODIFIED:20251113T163030Z
UID:32211-1763227800-1763233200@pisa.libreriaerasmus.it
SUMMARY:presentazione del libro di Katia Lari Faccenda "Le tre domande dell'angelo"  (CartaCanta)
DESCRIPTION:“Le tre domande dell’angelo” (CartaCanta editore) è il romanzo di Katia Lari Faccenda che sabato 15 novembre sarà presentato alle 17\,30 presso la Libreria Erasmus. \nDialoga con l’autrice l’editore Andrea Ulivi. \nDecisa ad assumere la propria colpa generazionale e la responsabilità di un futuro da reinventare\, la protagonista del romanzo\, Giovanna\, è una ragazzina che guida una marcia silenziosa di studenti verso la Capitale. Il romanzo\, sui generis\, si ispira al passaggio emblematico di Jeanne d’Arc nella storia\, la ragazzina che assunse la colpa di due generazioni e la tradusse in un atto volontario di responsabilità: volle agire un futuro ancora da immaginare e le tolsero la vita. Rappresentava uno scandalo il suo essere ragazza in un tempo e luogo restrittivi per le donne\, il suo divenire condottiera di uomini\, come scandalo erano le sue vittorie\, i suoi abiti maschili\, la sua consapevolezza.\nChi conosce storicamente Jeanne troverà ogni particolare biografico\, ma nel romanzo gli accadimenti sono filtrati attraverso una diversa attualità e trasformati. La vicenda ha un luogo e un tempo imprecisati\, in una sorta di Medio Oriente contemporaneo\, comunque intriso di Medioevo e visionarietà ed è narrata da un testimone\, uno studente. A sospingere la ragazza un angelo che le ha consegnato il nome e le visioni le stesse che pongono Jaenne d’Arc in rapporto con l’assoluto.\nKatia Lari Faccenda\, nata a Firenze nel 1962\, artista e musicista: disegna fumetti\, lavora come restauratrice di pitture murarie; studia canto lirico\, e di tradizione orale\, si esibisce su palcoscenico e in strada. Scrive da decenni: narrativa\, teatro\, canzoni. Il romanzo “Un salto al buio” è edito da CartaCanta nel 2018. Lari Faccenda vive a Vinci\, in collina\, a pochi passi dalla casa natale di Leonardo.
URL:https://pisa.libreriaerasmus.it/appuntamento/presentazione-del-libro-di-katia-lari-faccenda-le-tre-domande-dellangelo-cartacanta/
CATEGORIES:Presentazioni
ATTACH;FMTTYPE=image/jpeg:https://pisa.libreriaerasmus.it/wp-content/uploads/2025/11/locandina-erasmus-4.jpg
END:VEVENT
BEGIN:VEVENT
DTSTART;VALUE=DATE:20251121
DTEND;VALUE=DATE:20251122
DTSTAMP:20260421T143426
CREATED:20251118T190941Z
LAST-MODIFIED:20251118T203741Z
UID:32618-1763683200-1763769599@pisa.libreriaerasmus.it
SUMMARY:Presentazione del nuovo libro del giornalista e scrittore Luca Arnau "Vlad\, il figlio del drago"
DESCRIPTION:Tappa a Pisa del booktour del romanzo di Luca Arnaù\, “Vlad\,il figlio del drago”\, primo libro della trilogia Le cronache di Dracula edito da Mursia Editore. \nIl libro\, uscito lo scorso 16 ottobre\, verrà presentato dall’autore venerdì 21 alle ore 17\,30 presso la libreria Ersasmus. \nLuca Arnau\, genovese di nascita e milanese d’adozione\, è giornalista\, sceneggiatore e scrittore di fama internazionale. Nel novembre 2025 il nuovo romanzo ha vinto il prestigioso Bram Stoker’s Dracula Society Award per il miglior romanzo su Dracula del 2025. \nAutore di thriller storici\, Arnau ha pubblicato con Newton Compton “Le Dieci Chiavi di Leonardo” (2021)\, tradotto in 19 Paesi e arrivato nel novembre 2021 contemporaneamente al primo posto nella classifica di Amazon in ben quattro categorie: thriller storici\, thriller e gialli\, letteratura italiana e kindle) e “L’Enigma di Leonardo” (2022)\, con AltreVoci Yeshua – Il Prescelto (2023)\, vincitore del Premio come miglior libro al Festival della Canzone Cristiana di Sanremo e Gli Arcani di Leonardo (2024) che si è aggiudicato la targa speciale per la storia con il miglior intreccio narrativo al prestigioso concorso Garfagnana in Giallo/Barga Noir. Dal 16 ottobre è aperto un sito internet dedicato a Dracula\, la sua leggenda\, la sua storia: www.vladtepes.it. \nSinossi: Edirne\, Impero Ottomano\, 1431. Il giovane Vlad\, principe di Valacchia\, è prigioniero alla corte del sultano Murad II\, ostaggio di un’alleanza tradita. In un mondo di intrighi e pericoli\, dove la morte è una costante minaccia\, Vlad deve imparare a sopravvivere. Accanto a lui\, il fratello minore Radu\, che sceglie una via inaspettata e spezza un legame indissolubile. Tra sfide cavalleresche\, amori proibiti con l’enigmatica Leila e spietate condanne\, Vlad si forgia nel fuoco dell’odio e della vendetta. Ma quando il destino gli offre una possibilità per riconquistare il suo trono\, si trova di fronte a una scelta impossibile: l’alleanza con i carcerieri o un piano segreto per salvare la cristianità dall’avanzata ottomana? Un epico viaggio di formazione\, tradimento e vendetta che dà vita a una delle figure più oscure e affascinanti della storia. \n«La mia idea – afferma l’autore – era quella di andare alle sorgenti della leggenda\, alla scoperta di colui che aveva dato origine al mito di Dracula: Vlad III di Valacchia\, Drăculea\, Vlad Țepeș l’impalatore. Cosa poteva aver fatto\, visto\, passato\, vissuto sulla pelle un uomo per arrivare a essere considerato così cattivo da diventare il Vampiro\, il simbolo stesso del Male?perché\, per il suo popolo – per la gente di Romania – Vlad è\, al contrario\, un eroe romantico\, un condottiero senza paura capace di difendere la sua terra dagli ottomani per anni?»
URL:https://pisa.libreriaerasmus.it/appuntamento/presentazione-del-nuovo-libro-del-giornalista-e-scrittore-luca-arnau-vlad-il-figlio-del-drago/
LOCATION:<br>Libreria Erasmus<br>
CATEGORIES:Presentazioni
ATTACH;FMTTYPE=image/jpeg:https://pisa.libreriaerasmus.it/wp-content/uploads/2025/11/VLAD-IL-FIGLIO-DEL-DRAGO-22.11.25.jpeg
END:VEVENT
END:VCALENDAR