BEGIN:VCALENDAR
VERSION:2.0
PRODID:-//Libreria Erasmus Pisa - ECPv6.15.17.1//NONSGML v1.0//EN
CALSCALE:GREGORIAN
METHOD:PUBLISH
X-WR-CALNAME:Libreria Erasmus Pisa
X-ORIGINAL-URL:https://pisa.libreriaerasmus.it
X-WR-CALDESC:Eventi per Libreria Erasmus Pisa
REFRESH-INTERVAL;VALUE=DURATION:PT1H
X-Robots-Tag:noindex
X-PUBLISHED-TTL:PT1H
BEGIN:VTIMEZONE
TZID:UTC
BEGIN:STANDARD
TZOFFSETFROM:+0000
TZOFFSETTO:+0000
TZNAME:UTC
DTSTART:20240101T000000
END:STANDARD
END:VTIMEZONE
BEGIN:VEVENT
DTSTART;VALUE=DATE:20251212
DTEND;VALUE=DATE:20251213
DTSTAMP:20260421T160936
CREATED:20251209T193516Z
LAST-MODIFIED:20251209T193516Z
UID:33031-1765497600-1765583999@pisa.libreriaerasmus.it
SUMMARY:Presentazione del nuovo romanzo "Tre ex detenuti" di Federico Berlioz pubblicato da Balzano Editore
DESCRIPTION:Con l’autore dialogheranno lo scrittore Carmelo Musumeci e il giurista Fabrizio Bartelloni. Conduce l’incontro Mary Ferri. \nL’ Associazione Periphèria torna a organizzare un evento sulle problematiche del carcere e dei diritti. Con questa presentazione affrontiamo il tema del dopo pena e del rientro in società. Argomenti e temi importanti di cui si parla sempre troppo poco. \nUn dialogo a più voci che promette di andare oltre la semplice presentazione. \nAutore di numerosi racconti e romanzi tra noir e narrativa sociale\, Federico Berlioz vive a Pisa da circa vent’anni\, impegnato in collaborazioni con la Camera Penale e associazioni di volontariato di Pisa quali Controluce e Casa delle Donna\, ha partecipato a numerosi progetti sul carcere\, realtà che ha avuto l’esperienza di vivere per molti anni come detenuto. \nUn romanzo che scava nelle ferite del riscatto\, l’autore racconta il viaggio\, duro e fragile\, di tre uomini usciti dal carcere che provano a riappropriarsi della propria vita. Ma il mondo fuori non è sempre disposto ad ascoltare\, e ancora meno a perdonare. Tra ricordi che tornano\, scelte difficili e un “piano” (quasi) perfetto che assomiglia più a una speranza che a un colpo di genio\, i protagonisti si muovono sul filo sottilissimo tra redenzione e caduta. Le tensioni fra i tre uomini\, i silenzi e le piccole alleanze che nascono e muoiono in un attimo\, rendono la storia ancora più viva: ognuno porta con sé la propria verità e il proprio modo di sopravvivere. E ciò che li tiene insieme è proprio la consapevolezza che nessuno si salva da solo. \nBerlioz si è affermato per la capacità di raccontare l’invisibile: persone\, errori\, esistenze sospese. Tra i suoi titoli ricordiamo “Affari di provincia”\, “Protocollo Astaroth”\, “Il gioco dei mostri” e “Danger Point” opere che si ispirano a storie criminali realmente accadute e che hanno costruito nel tempo un percorso coerente e riconoscibile.\nL’incontro rappresenta anche l’occasione per parlare di giustizia riparativa\, dignità e responsabilità: temi che il romanzo affronta con maturità in una storia che merita di essere ascoltata.
URL:https://pisa.libreriaerasmus.it/appuntamento/presentazione-del-nuovo-romanzo-tre-ex-detenuti-di-federico-berlioz-pubblicato-da-balzano-editore/
CATEGORIES:Presentazioni
ATTACH;FMTTYPE=image/jpeg:https://pisa.libreriaerasmus.it/wp-content/uploads/2025/12/locandina-Tre-ex-Detenuti.jpeg
END:VEVENT
BEGIN:VEVENT
DTSTART;VALUE=DATE:20251213
DTEND;VALUE=DATE:20251214
DTSTAMP:20260421T160936
CREATED:20251209T201453Z
LAST-MODIFIED:20251209T201542Z
UID:33034-1765584000-1765670399@pisa.libreriaerasmus.it
SUMMARY:Presentazione del nuovo romanzo "Anch'io potro' volare" di Silvia Conforti (edizioni La vita felice)
DESCRIPTION:Dialogherà con l’autrice Barbara Idda\, drammaturga e regista.\nA seguito di un lavoro di ricerca storica\, con efficacia e naturalezza\, l’autrice dipinge un intenso affresco dell’Italia del primo novecento. Le vicende\, realmente accadute (documentata da foto dell’epoca inserite nel volume)\, vede protagoniste due sorelline rimaste orfane in tenera età. La loro unica forza risiede nel legame indissolubile che le unisce. Alle loro storie quotidiane fanno da contorno la Grande Guerra\, l’epidemia della Spagnola e i primi albori del fascismo.\nCon uno stile asciutto e privo di fronzoli\, l’autrice sceglie di raccontare i fatti così come sono accaduti\, senza indulgere in giri di parole o ridondanze linguistiche.\nQuesta scelta narrativa offre una testimonianza fedele\, che non si limita alla cronaca degli avvenimenti\, ma ci introduce anche nel mondo interiore dei protagonisti. Pur evitando il pathos e mantenendo sempre un forte senso dell’equilibrio\, la narrazione riesce a trasmettere le emozioni vissute dai personaggi.\nSilvia Conforti\, livornese\, ha al suo attivo due raccolte di racconti “Le pietre in tasca”\, “Ruggine a colazione” e i romanzi “Il figlio del terremoto” e “Veleni\, amori\, animali e altre calamità”. I suoi lavori hanno ricevuto premi e riconoscimenti in concorsi letterari nazionali ed internazionali. \nL’incontro con l’autrice sarà un’occasione per condividere emozioni\, riflessioni e anche ricordi di chi\, di quel periodo storico\, ha ascoltato racconti e testimonianze. \n 
URL:https://pisa.libreriaerasmus.it/appuntamento/presentazione-del-nuovo-romanzo-anchio-potro-volare-di-silvia-conforti-edizioni-la-vita-felice/
CATEGORIES:Presentazioni
ATTACH;FMTTYPE=image/jpeg:https://pisa.libreriaerasmus.it/wp-content/uploads/2025/12/locandina.jpeg
END:VEVENT
END:VCALENDAR